BEGIN:VCALENDAR
VERSION:2.0
PRODID:-//CRFM Valcartier - ECPv6.15.20//NONSGML v1.0//EN
CALSCALE:GREGORIAN
METHOD:PUBLISH
X-ORIGINAL-URL:https://crfmv.com/en/
X-WR-CALDESC:Events for CRFM Valcartier
REFRESH-INTERVAL;VALUE=DURATION:PT1H
X-Robots-Tag:noindex
X-PUBLISHED-TTL:PT1H
BEGIN:VTIMEZONE
TZID:America/Toronto
BEGIN:DAYLIGHT
TZOFFSETFROM:-0500
TZOFFSETTO:-0400
TZNAME:EDT
DTSTART:20220313T070000
END:DAYLIGHT
BEGIN:STANDARD
TZOFFSETFROM:-0400
TZOFFSETTO:-0500
TZNAME:EST
DTSTART:20221106T060000
END:STANDARD
BEGIN:DAYLIGHT
TZOFFSETFROM:-0500
TZOFFSETTO:-0400
TZNAME:EDT
DTSTART:20230312T070000
END:DAYLIGHT
BEGIN:STANDARD
TZOFFSETFROM:-0400
TZOFFSETTO:-0500
TZNAME:EST
DTSTART:20231105T060000
END:STANDARD
BEGIN:DAYLIGHT
TZOFFSETFROM:-0500
TZOFFSETTO:-0400
TZNAME:EDT
DTSTART:20240310T070000
END:DAYLIGHT
BEGIN:STANDARD
TZOFFSETFROM:-0400
TZOFFSETTO:-0500
TZNAME:EST
DTSTART:20241103T060000
END:STANDARD
END:VTIMEZONE
BEGIN:VEVENT
DTSTART;TZID=America/Toronto:20231014T090000
DTEND;TZID=America/Toronto:20231014T113000
DTSTAMP:20260424T223342
CREATED:20231003T142830Z
LAST-MODIFIED:20231003T142845Z
UID:10947-1697274000-1697283000@crfmv.com
SUMMARY:Clothing\, toys and games swap | Échange de vêtements\, de jouets et de jeux
DESCRIPTION:Bring your clothes (adults and children)\, toys or games from October 10 to 13 between 8 am and 4:30 pm at the Community Centre (Building 93).\n\nAn outside bin will also be available near the main entrance for evening drop-offs.\n\n\nItems must be clean and in good condition. Stuffed animals will not be accepted.\n\n\nDon’t forget your reusable bag!\n\n\nFree\n*$5 without donation\n\n\nINFORMATION\n418 844-6060\ntanya.langlois@crfmv.com\nchantal.thompson@crfmv.com\n\n\n\n\n———————————\n\n\n\n\n\nApportez vos vêtements (adulte et enfant)\, jouets ou jeux du 10 au 13 octobre entre 8 h et 16 h 30 au Centre communautaire (Édifice 93). (English will follow)\n\n\nUn bac extérieur sera aussi disponible près de la porte principale pour les dépôts en soirée.\n\n\nLes articles doivent être propres et en bon état. Les peluches ne seront pas acceptées.\n\n\nN’oubliez pas votre sac réutilisable!\n\n\nGratuit\n*5$ sans don\n\n\nINFORMATION\n418 844-6060\ntanya.langlois@crfmv.com\nchantal.thompson@crfmv.com
URL:https://crfmv.com/en/event/clothing-toys-and-games-swap-echange-de-vetements-de-jouets-et-de-jeux/
END:VEVENT
END:VCALENDAR