BEGIN:VCALENDAR
VERSION:2.0
PRODID:-//CRFM Valcartier - ECPv6.15.20//NONSGML v1.0//EN
CALSCALE:GREGORIAN
METHOD:PUBLISH
X-WR-CALNAME:CRFM Valcartier
X-ORIGINAL-URL:https://crfmv.com/en/
X-WR-CALDESC:Events for CRFM Valcartier
REFRESH-INTERVAL;VALUE=DURATION:PT1H
X-Robots-Tag:noindex
X-PUBLISHED-TTL:PT1H
BEGIN:VTIMEZONE
TZID:America/Toronto
BEGIN:DAYLIGHT
TZOFFSETFROM:-0500
TZOFFSETTO:-0400
TZNAME:EDT
DTSTART:20220313T070000
END:DAYLIGHT
BEGIN:STANDARD
TZOFFSETFROM:-0400
TZOFFSETTO:-0500
TZNAME:EST
DTSTART:20221106T060000
END:STANDARD
BEGIN:DAYLIGHT
TZOFFSETFROM:-0500
TZOFFSETTO:-0400
TZNAME:EDT
DTSTART:20230312T070000
END:DAYLIGHT
BEGIN:STANDARD
TZOFFSETFROM:-0400
TZOFFSETTO:-0500
TZNAME:EST
DTSTART:20231105T060000
END:STANDARD
BEGIN:DAYLIGHT
TZOFFSETFROM:-0500
TZOFFSETTO:-0400
TZNAME:EDT
DTSTART:20240310T070000
END:DAYLIGHT
BEGIN:STANDARD
TZOFFSETFROM:-0400
TZOFFSETTO:-0500
TZNAME:EST
DTSTART:20241103T060000
END:STANDARD
END:VTIMEZONE
BEGIN:VEVENT
DTSTART;TZID=America/Toronto:20231021T090000
DTEND;TZID=America/Toronto:20231021T133000
DTSTAMP:20260424T223126
CREATED:20231011T173441Z
LAST-MODIFIED:20231011T173448Z
UID:11021-1697878800-1697895000@crfmv.com
SUMMARY:Fathers meet-up
DESCRIPTION:Papas\, ﬁgures paternelles\, beaux-pères ou grands-pères sont tous conviés à cette grande excursion en plein air avec leurs petits\, sur le sentier de la Forêt ancienne au Mont Wright. (English will follow)\n\n\n8$ par adulte et gratuit pour les 17 ans et moins\n\n\nInscription\nhttps://crfmv.info/peres_fathers\n\n\nMont Wright.\nParc du Mont Wright\n18 Chem. de l’Escalade\,\nStoneham-et-Tewkesbury\, QC G3C 0R2\n\n\nService d’autobus offert. Départ 8 h 30 du Centre communautaire (Édiﬁce 93)\n\n\n*Activité bilingue\n\n\nInformation\n418 844 6060\nmathieu.bouchard@crfmv.com\n\n\n————————–\n\n\nDads\, father figures\, step dads or grandfathers are all invited to this great excursion outdoors with their little ones\, at the Sentier de la Forêt ancienne at the Mont Wright.\n\n\n$8 per adult and free for 17 years old and under.\n\n\nRegistration\nhttps://crfmv.info/peres_fathers\n\n\nMont Wright.\nParc du Mont Wright\n18 road de l’Escalade\,\nStoneham-et-Tewkesbury\, QC G3C 0R2\n\n\nBus transportation provided. Departure 8:30 am from the Community Centre (Building 93)\n*Bilingual activity\n\n\nInformation\n418 844 6060\nmathieu.bouchard@crfmv.com
URL:https://crfmv.com/en/event/fathers-meet-up/
END:VEVENT
END:VCALENDAR