BEGIN:VCALENDAR
VERSION:2.0
PRODID:-//CRFM Valcartier - ECPv6.15.20//NONSGML v1.0//EN
CALSCALE:GREGORIAN
METHOD:PUBLISH
X-WR-CALNAME:CRFM Valcartier
X-ORIGINAL-URL:https://crfmv.com/en/
X-WR-CALDESC:Events for CRFM Valcartier
REFRESH-INTERVAL;VALUE=DURATION:PT1H
X-Robots-Tag:noindex
X-PUBLISHED-TTL:PT1H
BEGIN:VTIMEZONE
TZID:America/Toronto
BEGIN:DAYLIGHT
TZOFFSETFROM:-0500
TZOFFSETTO:-0400
TZNAME:EDT
DTSTART:20220313T070000
END:DAYLIGHT
BEGIN:STANDARD
TZOFFSETFROM:-0400
TZOFFSETTO:-0500
TZNAME:EST
DTSTART:20221106T060000
END:STANDARD
BEGIN:DAYLIGHT
TZOFFSETFROM:-0500
TZOFFSETTO:-0400
TZNAME:EDT
DTSTART:20230312T070000
END:DAYLIGHT
BEGIN:STANDARD
TZOFFSETFROM:-0400
TZOFFSETTO:-0500
TZNAME:EST
DTSTART:20231105T060000
END:STANDARD
BEGIN:DAYLIGHT
TZOFFSETFROM:-0500
TZOFFSETTO:-0400
TZNAME:EDT
DTSTART:20240310T070000
END:DAYLIGHT
BEGIN:STANDARD
TZOFFSETFROM:-0400
TZOFFSETTO:-0500
TZNAME:EST
DTSTART:20241103T060000
END:STANDARD
END:VTIMEZONE
BEGIN:VEVENT
DTSTART;TZID=America/Toronto:20231025T180000
DTEND;TZID=America/Toronto:20231025T210000
DTSTAMP:20260424T223100
CREATED:20231003T150135Z
LAST-MODIFIED:20231003T150135Z
UID:10978-1698256800-1698267600@crfmv.com
SUMMARY:Ateliers Saine communication | Healthy communication Workshops
DESCRIPTION:Nous parlerons des meilleures pratiques de communication et de résolutions de conﬂits. (English will follow)\n\n\nHalte-garderie à faible coût disponible de soir au CRMFV pour les enfants d’âge préscolaire.\n\n\nPlace limitées\, réservation obligatoire au 418-844-6060.\n\n\nInscription et information Promotion de la santé\n\n\n418 844-5000 poste 4677\n\n\n———————–\n\n\nWe will talk about best practices for communication and conﬂict resolution.\n\n\nLow-cost childcare for preschoolers available at the VMFRC during workshops.\n\n\nLimited places\, reservation required at 418-844-6060.\n\n\nRegistration and information Health Promotion\n\n\n418 844-5000 ext 4677
URL:https://crfmv.com/en/event/ateliers-saine-communication-healthy-communication-workshops-3/
ATTACH;FMTTYPE=image/jpeg:https://crfmv.com/wp-content/uploads/2023/10/375748785_319680257288009_186508731821061977_n.jpg
END:VEVENT
BEGIN:VEVENT
DTSTART;TZID=America/Toronto:20231025T180000
DTEND;TZID=America/Toronto:20231025T210000
DTSTAMP:20260424T223100
CREATED:20231003T150218Z
LAST-MODIFIED:20231003T150604Z
UID:10980-1698256800-1698267600@crfmv.com
SUMMARY:Ateliers Saine communication | Healthy communication Workshops
DESCRIPTION:Nous parlerons des meilleures pratiques de communication et de résolutions de conﬂits. (English will follow)\n\n\nHalte-garderie à faible coût disponible de soir au CRMFV pour les enfants d’âge préscolaire.\n\n\nPlace limitées\, réservation obligatoire au 418-844-6060.\n\n\nInscription et information Promotion de la santé\n\n\n418 844-5000 poste 4677\n\n\n———————–\n\n\nWe will talk about best practices for communication and conﬂict resolution.\n\n\nLow-cost childcare for preschoolers available at the VMFRC during workshops.\n\n\nLimited places\, reservation required at 418-844-6060.\n\n\nRegistration and information Health Promotion\n\n\n418 844-5000 ext 4677
URL:https://crfmv.com/en/event/ateliers-saine-communication-healthy-communication-workshops-4/
ATTACH;FMTTYPE=image/jpeg:https://crfmv.com/wp-content/uploads/2023/10/375748785_319680257288009_186508731821061977_n.jpg
END:VEVENT
END:VCALENDAR