BEGIN:VCALENDAR
VERSION:2.0
PRODID:-//CRFM Valcartier - ECPv6.15.20//NONSGML v1.0//EN
CALSCALE:GREGORIAN
METHOD:PUBLISH
X-ORIGINAL-URL:https://crfmv.com/en/
X-WR-CALDESC:Events for CRFM Valcartier
REFRESH-INTERVAL;VALUE=DURATION:PT1H
X-Robots-Tag:noindex
X-PUBLISHED-TTL:PT1H
BEGIN:VTIMEZONE
TZID:America/Toronto
BEGIN:DAYLIGHT
TZOFFSETFROM:-0500
TZOFFSETTO:-0400
TZNAME:EDT
DTSTART:20220313T070000
END:DAYLIGHT
BEGIN:STANDARD
TZOFFSETFROM:-0400
TZOFFSETTO:-0500
TZNAME:EST
DTSTART:20221106T060000
END:STANDARD
BEGIN:DAYLIGHT
TZOFFSETFROM:-0500
TZOFFSETTO:-0400
TZNAME:EDT
DTSTART:20230312T070000
END:DAYLIGHT
BEGIN:STANDARD
TZOFFSETFROM:-0400
TZOFFSETTO:-0500
TZNAME:EST
DTSTART:20231105T060000
END:STANDARD
BEGIN:DAYLIGHT
TZOFFSETFROM:-0500
TZOFFSETTO:-0400
TZNAME:EDT
DTSTART:20240310T070000
END:DAYLIGHT
BEGIN:STANDARD
TZOFFSETFROM:-0400
TZOFFSETTO:-0500
TZNAME:EST
DTSTART:20241103T060000
END:STANDARD
END:VTIMEZONE
BEGIN:VEVENT
DTSTART;TZID=America/Toronto:20231124T083000
DTEND;TZID=America/Toronto:20231215T163000
DTSTAMP:20260424T190141
CREATED:20231108T235752Z
LAST-MODIFIED:20231108T235752Z
UID:11108-1700814600-1702657800@crfmv.com
SUMMARY:A mailbox for Santa Claus
DESCRIPTION:Une boite aux lettres pour le Père Noël sera disponible à l’accueil du centre communautaire (Édifice 93). (English will follow)\n\n\nInformation\nsandrine.deseve@crfmv.com\n\n\n———————-\nA mailbox for Santa Claus will be available at the front desk of the Community Centre\n(Building 93).\n\n\nInformation\nsandrine.deseve@crfmv.com
URL:https://crfmv.com/en/event/a-mailbox-for-santa-claus/
END:VEVENT
BEGIN:VEVENT
DTSTART;TZID=America/Toronto:20231206T190000
DTEND;TZID=America/Toronto:20231206T204500
DTSTAMP:20260424T190141
CREATED:20231108T234005Z
LAST-MODIFIED:20231108T234005Z
UID:11084-1701889200-1701895500@crfmv.com
SUMMARY:Positive Parenting Program
DESCRIPTION:Conférences Triple P \nParce que les enfants ne viennent pas avec un manuel d’instructions…Les parents ont parfois besoin d’un coup de pouce. Série de trois conférences pour améliorer votre relation avec votre enfant et découvrir des trucs simples et concrets qui augmenteront votre plaisir d’être parent! (English will follow) \nC’est gratuit \nInscription\nhttps://crfmv.info/TripleP \nInformation\naudrey.charland@crfmv.com \n________________________________ \nTriple P Conferences\n*in french only \nBecause kids don’t come with an instruction manual …\nParents sometimes need a helping hand. A series of three conferences to improve your relationship with your child and discover simple and concrete tips that will increase your pleasure as a parent! \nIt’s free \nRegistration\nhttps://crfmv.info/TripleP \nInformation\naudrey.charland@crfmv.com
URL:https://crfmv.com/en/event/positive-parenting-program-3/
ATTACH;FMTTYPE=image/png:https://crfmv.com/wp-content/uploads/2023/11/triple-p_automne23.png
END:VEVENT
END:VCALENDAR