BEGIN:VCALENDAR
VERSION:2.0
PRODID:-//CRFM Valcartier - ECPv6.15.20//NONSGML v1.0//EN
CALSCALE:GREGORIAN
METHOD:PUBLISH
X-WR-CALNAME:CRFM Valcartier
X-ORIGINAL-URL:https://crfmv.com/en/
X-WR-CALDESC:Events for CRFM Valcartier
REFRESH-INTERVAL;VALUE=DURATION:PT1H
X-Robots-Tag:noindex
X-PUBLISHED-TTL:PT1H
BEGIN:VTIMEZONE
TZID:America/Toronto
BEGIN:DAYLIGHT
TZOFFSETFROM:-0500
TZOFFSETTO:-0400
TZNAME:EDT
DTSTART:20230312T070000
END:DAYLIGHT
BEGIN:STANDARD
TZOFFSETFROM:-0400
TZOFFSETTO:-0500
TZNAME:EST
DTSTART:20231105T060000
END:STANDARD
BEGIN:DAYLIGHT
TZOFFSETFROM:-0500
TZOFFSETTO:-0400
TZNAME:EDT
DTSTART:20240310T070000
END:DAYLIGHT
BEGIN:STANDARD
TZOFFSETFROM:-0400
TZOFFSETTO:-0500
TZNAME:EST
DTSTART:20241103T060000
END:STANDARD
BEGIN:DAYLIGHT
TZOFFSETFROM:-0500
TZOFFSETTO:-0400
TZNAME:EDT
DTSTART:20250309T070000
END:DAYLIGHT
BEGIN:STANDARD
TZOFFSETFROM:-0400
TZOFFSETTO:-0500
TZNAME:EST
DTSTART:20251102T060000
END:STANDARD
END:VTIMEZONE
BEGIN:VEVENT
DTSTART;TZID=America/Toronto:20240209T090000
DTEND;TZID=America/Toronto:20240209T110000
DTSTAMP:20260424T155657
CREATED:20240123T190325Z
LAST-MODIFIED:20240123T190325Z
UID:11230-1707469200-1707476400@crfmv.com
SUMMARY:Social Morning in English
DESCRIPTION:Social Morning in English \nThe bilingual committee offers you a casual and non-judgmental place to speak or practice your English while having fun. \nHot beverages served on site \nAt the Community Centre (Building 93) \nRegistration not required \nINFORMATION\nsandrine.deseve@crfmv.com \n——————————- \nLe comité bilingue vous off re un endroit à l’ambiance décontractée et sans jugement pour parler ou pratiquer votre anglais tout en s’amusant. (English will follow) \nBreuvages chauds servis sur place \nAu Centre communautaire (Édifice 93) \nInscription non requise \nINFORMATION\nsandrine.deseve@crfmv.com
URL:https://crfmv.com/en/event/social-morning-in-english/
END:VEVENT
END:VCALENDAR