BEGIN:VCALENDAR
VERSION:2.0
PRODID:-//CRFM Valcartier - ECPv6.15.20//NONSGML v1.0//EN
CALSCALE:GREGORIAN
METHOD:PUBLISH
X-ORIGINAL-URL:https://crfmv.com/en/
X-WR-CALDESC:Events for CRFM Valcartier
REFRESH-INTERVAL;VALUE=DURATION:PT1H
X-Robots-Tag:noindex
X-PUBLISHED-TTL:PT1H
BEGIN:VTIMEZONE
TZID:America/Toronto
BEGIN:DAYLIGHT
TZOFFSETFROM:-0500
TZOFFSETTO:-0400
TZNAME:EDT
DTSTART:20230312T070000
END:DAYLIGHT
BEGIN:STANDARD
TZOFFSETFROM:-0400
TZOFFSETTO:-0500
TZNAME:EST
DTSTART:20231105T060000
END:STANDARD
BEGIN:DAYLIGHT
TZOFFSETFROM:-0500
TZOFFSETTO:-0400
TZNAME:EDT
DTSTART:20240310T070000
END:DAYLIGHT
BEGIN:STANDARD
TZOFFSETFROM:-0400
TZOFFSETTO:-0500
TZNAME:EST
DTSTART:20241103T060000
END:STANDARD
BEGIN:DAYLIGHT
TZOFFSETFROM:-0500
TZOFFSETTO:-0400
TZNAME:EDT
DTSTART:20250309T070000
END:DAYLIGHT
BEGIN:STANDARD
TZOFFSETFROM:-0400
TZOFFSETTO:-0500
TZNAME:EST
DTSTART:20251102T060000
END:STANDARD
END:VTIMEZONE
BEGIN:VEVENT
DTSTART;TZID=America/Toronto:20240216T190000
DTEND;TZID=America/Toronto:20240216T210000
DTSTAMP:20260424T155909
CREATED:20240123T185050Z
LAST-MODIFIED:20240123T185050Z
UID:11214-1708110000-1708117200@crfmv.com
SUMMARY:Valentine’s Day disco
DESCRIPTION:$5 per child \nCanteen\nChocolate: $1.50\nDrinks: $1\nCandy: $1.50\nCotton Candy: $1.25\nPopcorn: $1.25\nChips: $1\nSlush: $2 \nOnline Mandatory registration: https://crfmv.info/disco\n*new registration and payment platform. \nFundraising activity for community youth.\nActivity organized by the CRASH Committee (young volunteers aged 12-17 supervised by the Youth Team of the VMFRC). This activity is under employee supervision. \nNOTICE TO PARENTS\nIndividuals who would like to volunteer during the disco will need to complete the volunteer forms. For more information\, please contact Sandrine De Sève\, Community organizer: sandrine.deseve@crfmv.com. Only parents who registered as volunteers will be allowed to stay during the disco. For security reasons\, you must come inside the Centre to get your children at the end of the evening. \nINFORMATION\nYouth team 418 844-6060\nservicesjeunesse@crfmv.com \n————————— \nDisco de la St-Valentin (English will follow) \n5$ par enfant \nCantine\nChocolat : 1.50$\nBreuvages : 1$\nBonbons : 1.50$\nBarbe à papa : 1.25$\nPop-corn : 1.25$\nChips : 1$\nSlush : 2$ \nInscription en ligne OBLIGATOIRE\nhttps://crfmv.info/disco\n*Nouvelle plateforme d’inscription et de paiement \nActivité de financement pour les adolescents de la communauté.\nAnimation organisée par le comité CRASH (jeunes bénévoles âgés de 12 à 17 ans supervisés par les intervenants jeunesse du CRFMV). Des employés supervisent cette activité. \nAVIS AUX PARENTS\nNous demandons aux personnes désirant être bénévole lors de la disco\, de s’inscrire sur la liste des bénévoles. Pour plus d’informations\, veuillez contacter Sandrine De Sève\, organisatrice communautaire : sandrine.deseve@crfmv.com Seuls les parents préalablement inscrits comme bénévoles pourront demeurer sur les lieux. Il est obligatoire de venir chercher vos enfants en fin de soirée et d’entrer dans le Centre pour qu’ils puissent quitter la fête en toute sécurité. \nINFORMATION\nÉquipe jeunesse 418 844-6060\nservicesjeunesse@crfmv.com
URL:https://crfmv.com/en/event/valentines-day-disco/
END:VEVENT
END:VCALENDAR