BEGIN:VCALENDAR
VERSION:2.0
PRODID:-//CRFM Valcartier - ECPv6.15.20//NONSGML v1.0//EN
CALSCALE:GREGORIAN
METHOD:PUBLISH
X-WR-CALNAME:CRFM Valcartier
X-ORIGINAL-URL:https://crfmv.com/en/
X-WR-CALDESC:Events for CRFM Valcartier
REFRESH-INTERVAL;VALUE=DURATION:PT1H
X-Robots-Tag:noindex
X-PUBLISHED-TTL:PT1H
BEGIN:VTIMEZONE
TZID:America/Toronto
BEGIN:DAYLIGHT
TZOFFSETFROM:-0500
TZOFFSETTO:-0400
TZNAME:EDT
DTSTART:20230312T070000
END:DAYLIGHT
BEGIN:STANDARD
TZOFFSETFROM:-0400
TZOFFSETTO:-0500
TZNAME:EST
DTSTART:20231105T060000
END:STANDARD
BEGIN:DAYLIGHT
TZOFFSETFROM:-0500
TZOFFSETTO:-0400
TZNAME:EDT
DTSTART:20240310T070000
END:DAYLIGHT
BEGIN:STANDARD
TZOFFSETFROM:-0400
TZOFFSETTO:-0500
TZNAME:EST
DTSTART:20241103T060000
END:STANDARD
BEGIN:DAYLIGHT
TZOFFSETFROM:-0500
TZOFFSETTO:-0400
TZNAME:EDT
DTSTART:20250309T070000
END:DAYLIGHT
BEGIN:STANDARD
TZOFFSETFROM:-0400
TZOFFSETTO:-0500
TZNAME:EST
DTSTART:20251102T060000
END:STANDARD
END:VTIMEZONE
BEGIN:VEVENT
DTSTART;TZID=America/Toronto:20240313T180000
DTEND;TZID=America/Toronto:20240313T210000
DTSTAMP:20260424T142221
CREATED:20240220T191621Z
LAST-MODIFIED:20240220T191638Z
UID:11398-1710352800-1710363600@crfmv.com
SUMMARY:Taking care of my couple with an OSI
DESCRIPTION:Your couple is dealing with a diagnosed Operational Stress Injury? You would like to reflect on how to take care of yourself and your couple while coping with this challenging reality?\n\n\nThat’s just what this workshop is all about. As a bonus\, a veteran and a military spouse will share their enlightening life experiences.\n*Please note that this workshop is offered in French only. Contact us if you are more confortable in English\, one of our consellors can offer to meet with you individually and adapt the workshop to your needs.\n\n\nAt the Community Centre (Building 93)\n\n\nRegistration: https://crfmv.info/OSI_Couple_BSO\n\n\nInformation: camille.dallaire@crfmv.com\n\n\n—————————-\n\n\n\nVotre couple est touché par la blessure de stress opérationnel diagnostiquée? Vous désirez réfléchir à des moyens de prendre soin de vous et de votre couple à travers la gestion de cette réalité à défi? (English will follow)\n\n\nÇa tombe bien\, cet atelier traite précisément de ce sujet. En prime\, entendez le témoignage éclairant d’un vétéran et d’une conjointe.\n\n\nAu Centre communautaire (Édifice 93)\n\n\nInscription : https://crfmv.info/OSI_Couple_BSO\n\n\nInformation : camille.dallaire@crfmv.com
URL:https://crfmv.com/en/event/taking-care-of-my-couple-with-an-osi/
END:VEVENT
END:VCALENDAR