BEGIN:VCALENDAR
VERSION:2.0
PRODID:-//CRFM Valcartier - ECPv6.15.20//NONSGML v1.0//EN
CALSCALE:GREGORIAN
METHOD:PUBLISH
X-WR-CALNAME:CRFM Valcartier
X-ORIGINAL-URL:https://crfmv.com/en/
X-WR-CALDESC:Events for CRFM Valcartier
REFRESH-INTERVAL;VALUE=DURATION:PT1H
X-Robots-Tag:noindex
X-PUBLISHED-TTL:PT1H
BEGIN:VTIMEZONE
TZID:America/Toronto
BEGIN:DAYLIGHT
TZOFFSETFROM:-0500
TZOFFSETTO:-0400
TZNAME:EDT
DTSTART:20230312T070000
END:DAYLIGHT
BEGIN:STANDARD
TZOFFSETFROM:-0400
TZOFFSETTO:-0500
TZNAME:EST
DTSTART:20231105T060000
END:STANDARD
BEGIN:DAYLIGHT
TZOFFSETFROM:-0500
TZOFFSETTO:-0400
TZNAME:EDT
DTSTART:20240310T070000
END:DAYLIGHT
BEGIN:STANDARD
TZOFFSETFROM:-0400
TZOFFSETTO:-0500
TZNAME:EST
DTSTART:20241103T060000
END:STANDARD
BEGIN:DAYLIGHT
TZOFFSETFROM:-0500
TZOFFSETTO:-0400
TZNAME:EDT
DTSTART:20250309T070000
END:DAYLIGHT
BEGIN:STANDARD
TZOFFSETFROM:-0400
TZOFFSETTO:-0500
TZNAME:EST
DTSTART:20251102T060000
END:STANDARD
END:VTIMEZONE
BEGIN:VEVENT
DTSTART;TZID=America/Toronto:20241218T090000
DTEND;TZID=America/Toronto:20241218T120000
DTSTAMP:20260421T163851
CREATED:20241129T161310Z
LAST-MODIFIED:20241129T161310Z
UID:12641-1734512400-1734523200@crfmv.com
SUMMARY:Activity for fathers and kids Christmas Special
DESCRIPTION:Are you back from OP Reassurance? Or are you leaving soon for OP Unifier? Your MFRC has the perfect activity for you  Take some quality time with your kids \n\n\n\nMANDATORY REGISTRATION Before December 16\nhttps://crfmv.info/dad_noel\n\n\n\nTanya Langlois & Mathieu Bouchard\n418 844-6060
URL:https://crfmv.com/en/event/activity-for-fathers-and-kids-christmas-special/
ATTACH;FMTTYPE=image/png:https://crfmv.com/wp-content/uploads/2024/11/papa_enfant_noel.png
END:VEVENT
END:VCALENDAR