BEGIN:VCALENDAR
VERSION:2.0
PRODID:-//CRFM Valcartier - ECPv6.15.20//NONSGML v1.0//EN
CALSCALE:GREGORIAN
METHOD:PUBLISH
X-ORIGINAL-URL:https://crfmv.com/en/
X-WR-CALDESC:Events for CRFM Valcartier
REFRESH-INTERVAL;VALUE=DURATION:PT1H
X-Robots-Tag:noindex
X-PUBLISHED-TTL:PT1H
BEGIN:VTIMEZONE
TZID:America/Toronto
BEGIN:DAYLIGHT
TZOFFSETFROM:-0500
TZOFFSETTO:-0400
TZNAME:EDT
DTSTART:20240310T070000
END:DAYLIGHT
BEGIN:STANDARD
TZOFFSETFROM:-0400
TZOFFSETTO:-0500
TZNAME:EST
DTSTART:20241103T060000
END:STANDARD
BEGIN:DAYLIGHT
TZOFFSETFROM:-0500
TZOFFSETTO:-0400
TZNAME:EDT
DTSTART:20250309T070000
END:DAYLIGHT
BEGIN:STANDARD
TZOFFSETFROM:-0400
TZOFFSETTO:-0500
TZNAME:EST
DTSTART:20251102T060000
END:STANDARD
BEGIN:DAYLIGHT
TZOFFSETFROM:-0500
TZOFFSETTO:-0400
TZNAME:EDT
DTSTART:20260308T070000
END:DAYLIGHT
BEGIN:STANDARD
TZOFFSETFROM:-0400
TZOFFSETTO:-0500
TZNAME:EST
DTSTART:20261101T060000
END:STANDARD
END:VTIMEZONE
BEGIN:VEVENT
DTSTART;TZID=America/Toronto:20250303T123000
DTEND;TZID=America/Toronto:20250303T153000
DTSTAMP:20260421T111346
CREATED:20250217T191146Z
LAST-MODIFIED:20250217T191146Z
UID:13173-1741005000-1741015800@crfmv.com
SUMMARY:Spring break: Bowling
DESCRIPTION:Bowling / (10-17 years old) / Monday March 3 / small bowls. Departure: 12:30 p.m. from the CRFMV (Building 93) / Return: 3:30 p.m. from the CRFMV (Building 93) / Materials required: money or canteen payment card. Shoes included / Volunteers promo code
URL:https://crfmv.com/en/event/spring-break-bowling/
ATTACH;FMTTYPE=image/jpeg:https://crfmv.com/wp-content/uploads/2025/02/bowling-bowls-scaled.jpg
END:VEVENT
END:VCALENDAR