BEGIN:VCALENDAR
VERSION:2.0
PRODID:-//CRFM Valcartier - ECPv6.15.20//NONSGML v1.0//EN
CALSCALE:GREGORIAN
METHOD:PUBLISH
X-ORIGINAL-URL:https://crfmv.com/en/
X-WR-CALDESC:Events for CRFM Valcartier
REFRESH-INTERVAL;VALUE=DURATION:PT1H
X-Robots-Tag:noindex
X-PUBLISHED-TTL:PT1H
BEGIN:VTIMEZONE
TZID:America/Toronto
BEGIN:DAYLIGHT
TZOFFSETFROM:-0500
TZOFFSETTO:-0400
TZNAME:EDT
DTSTART:20240310T070000
END:DAYLIGHT
BEGIN:STANDARD
TZOFFSETFROM:-0400
TZOFFSETTO:-0500
TZNAME:EST
DTSTART:20241103T060000
END:STANDARD
BEGIN:DAYLIGHT
TZOFFSETFROM:-0500
TZOFFSETTO:-0400
TZNAME:EDT
DTSTART:20250309T070000
END:DAYLIGHT
BEGIN:STANDARD
TZOFFSETFROM:-0400
TZOFFSETTO:-0500
TZNAME:EST
DTSTART:20251102T060000
END:STANDARD
BEGIN:DAYLIGHT
TZOFFSETFROM:-0500
TZOFFSETTO:-0400
TZNAME:EDT
DTSTART:20260308T070000
END:DAYLIGHT
BEGIN:STANDARD
TZOFFSETFROM:-0400
TZOFFSETTO:-0500
TZNAME:EST
DTSTART:20261101T060000
END:STANDARD
END:VTIMEZONE
BEGIN:VEVENT
DTSTART;TZID=America/Toronto:20250305T130000
DTEND;TZID=America/Toronto:20250305T164500
DTSTAMP:20260421T111347
CREATED:20250217T185931Z
LAST-MODIFIED:20250217T185931Z
UID:13160-1741179600-1741193100@crfmv.com
SUMMARY:Spring break: I-Saute
DESCRIPTION:I-Saute (10-17 years old) / Wednesday March 5 / Start: 1:00 p.m. at the CRFMV (Building 93) / End: 4:45 p.m. at the CRFMV (Building 93) / Equipment required: bottle of water\, sports clothing and i-saute socks ($3.50 on site) / Volunteers promo code
URL:https://crfmv.com/en/event/spring-break-i-saute/
ATTACH;FMTTYPE=image/jpeg:https://crfmv.com/wp-content/uploads/2025/02/ISaute.jpg
END:VEVENT
BEGIN:VEVENT
DTSTART;TZID=America/Toronto:20250305T180000
DTEND;TZID=America/Toronto:20250305T210000
DTSTAMP:20260421T111347
CREATED:20250217T190040Z
LAST-MODIFIED:20250217T190055Z
UID:13162-1741197600-1741208400@crfmv.com
SUMMARY:Spring break: Pizza evening at Le Repaire
DESCRIPTION:Pizza evening at Le Repaire / Thursday March 5 / 6:00 p.m. -9:00 p.m. Making your own pizza!! Welcome to grade 6 students.Volunteer promo code
URL:https://crfmv.com/en/event/spring-break-pizza-evening-at-le-repaire/
LOCATION:Le Repaire
ATTACH;FMTTYPE=image/png:https://crfmv.com/wp-content/uploads/2025/02/11355484.png
END:VEVENT
END:VCALENDAR