BEGIN:VCALENDAR
VERSION:2.0
PRODID:-//CRFM Valcartier - ECPv6.15.20//NONSGML v1.0//EN
CALSCALE:GREGORIAN
METHOD:PUBLISH
X-ORIGINAL-URL:https://crfmv.com/en/
X-WR-CALDESC:Events for CRFM Valcartier
REFRESH-INTERVAL;VALUE=DURATION:PT1H
X-Robots-Tag:noindex
X-PUBLISHED-TTL:PT1H
BEGIN:VTIMEZONE
TZID:America/Toronto
BEGIN:DAYLIGHT
TZOFFSETFROM:-0500
TZOFFSETTO:-0400
TZNAME:EDT
DTSTART:20240310T070000
END:DAYLIGHT
BEGIN:STANDARD
TZOFFSETFROM:-0400
TZOFFSETTO:-0500
TZNAME:EST
DTSTART:20241103T060000
END:STANDARD
BEGIN:DAYLIGHT
TZOFFSETFROM:-0500
TZOFFSETTO:-0400
TZNAME:EDT
DTSTART:20250309T070000
END:DAYLIGHT
BEGIN:STANDARD
TZOFFSETFROM:-0400
TZOFFSETTO:-0500
TZNAME:EST
DTSTART:20251102T060000
END:STANDARD
BEGIN:DAYLIGHT
TZOFFSETFROM:-0500
TZOFFSETTO:-0400
TZNAME:EDT
DTSTART:20260308T070000
END:DAYLIGHT
BEGIN:STANDARD
TZOFFSETFROM:-0400
TZOFFSETTO:-0500
TZNAME:EST
DTSTART:20261101T060000
END:STANDARD
END:VTIMEZONE
BEGIN:VEVENT
DTSTART;TZID=America/Toronto:20250306T130000
DTEND;TZID=America/Toronto:20250306T164500
DTSTAMP:20260425T081604
CREATED:20250217T190247Z
LAST-MODIFIED:20250217T190247Z
UID:13164-1741266000-1741279500@crfmv.com
SUMMARY:Spring Break: Laser adventure
DESCRIPTION:Laser challenge (10-17 years old) / Thursday\, March 6 / Start: 1:00 p.m. at the CRFMV (Building 93) / End: 4:45 p.m. at the CRFMV (Building 93) / Materials required: bottle of water\, sports clothes and clean gym shoes / Volunteers promo code
URL:https://crfmv.com/en/event/spring-break-laser-adventure/
ATTACH;FMTTYPE=image/jpeg:https://crfmv.com/wp-content/uploads/2025/02/energetic-group-friends-playing-laser-tag-scaled.jpg
END:VEVENT
BEGIN:VEVENT
DTSTART;TZID=America/Toronto:20250306T183000
DTEND;TZID=America/Toronto:20250306T213000
DTSTAMP:20260425T081604
CREATED:20250217T190417Z
LAST-MODIFIED:20250217T190417Z
UID:13166-1741285800-1741296600@crfmv.com
SUMMARY:Spring Break: Movie night at Le Repaire
DESCRIPTION:Movie night at Le Repaire (12-17 years old) / Wednesday March 6. / 6:30 p.m. – 9:30 p.m.
URL:https://crfmv.com/en/event/spring-break-movie-night-at-le-repaire/
LOCATION:Le Repaire
ATTACH;FMTTYPE=image/jpeg:https://crfmv.com/wp-content/uploads/2025/02/sl_121019_25870_81-scaled.jpg
END:VEVENT
END:VCALENDAR