BEGIN:VCALENDAR
VERSION:2.0
PRODID:-//CRFM Valcartier - ECPv6.15.20//NONSGML v1.0//EN
CALSCALE:GREGORIAN
METHOD:PUBLISH
X-ORIGINAL-URL:https://crfmv.com/en/
X-WR-CALDESC:Events for CRFM Valcartier
REFRESH-INTERVAL;VALUE=DURATION:PT1H
X-Robots-Tag:noindex
X-PUBLISHED-TTL:PT1H
BEGIN:VTIMEZONE
TZID:America/Toronto
BEGIN:DAYLIGHT
TZOFFSETFROM:-0500
TZOFFSETTO:-0400
TZNAME:EDT
DTSTART:20240310T070000
END:DAYLIGHT
BEGIN:STANDARD
TZOFFSETFROM:-0400
TZOFFSETTO:-0500
TZNAME:EST
DTSTART:20241103T060000
END:STANDARD
BEGIN:DAYLIGHT
TZOFFSETFROM:-0500
TZOFFSETTO:-0400
TZNAME:EDT
DTSTART:20250309T070000
END:DAYLIGHT
BEGIN:STANDARD
TZOFFSETFROM:-0400
TZOFFSETTO:-0500
TZNAME:EST
DTSTART:20251102T060000
END:STANDARD
BEGIN:DAYLIGHT
TZOFFSETFROM:-0500
TZOFFSETTO:-0400
TZNAME:EDT
DTSTART:20260308T070000
END:DAYLIGHT
BEGIN:STANDARD
TZOFFSETFROM:-0400
TZOFFSETTO:-0500
TZNAME:EST
DTSTART:20261101T060000
END:STANDARD
END:VTIMEZONE
BEGIN:VEVENT
DTSTART;TZID=America/Toronto:20250307T093000
DTEND;TZID=America/Toronto:20250307T164500
DTSTAMP:20260425T062758
CREATED:20250217T190553Z
LAST-MODIFIED:20250217T190553Z
UID:13168-1741339800-1741365900@crfmv.com
SUMMARY:Spring break: Valcartier vacation village
DESCRIPTION:Village Vacances Valcartier (10-17 years) / Friday March 7 / Start: 9:30 a.m. at CRFMV (Building 93) / Return: 4:45 p.m. at CRFMV (Building 93) Materials required: bottle of water\, cold lunch or payment card (cash not used at VVV)\, warm and spare clothes / Volunteers promo code
URL:https://crfmv.com/en/event/spring-break-valcartier-vacation-village/
ATTACH;FMTTYPE=image/jpeg:https://crfmv.com/wp-content/uploads/2025/02/tube-2-scaled.jpg
END:VEVENT
BEGIN:VEVENT
DTSTART;TZID=America/Toronto:20250307T183000
DTEND;TZID=America/Toronto:20250307T223000
DTSTAMP:20260425T062758
CREATED:20250217T190826Z
LAST-MODIFIED:20250217T190826Z
UID:13170-1741372200-1741386600@crfmv.com
SUMMARY:Spring Break: Fire and Werewolf game
DESCRIPTION:Feu et Werewolf game (12-17 years old) / Friday March 7 / 6:30 p.m. – 10:30 p.m. at the Repaire. Outdoor activity!
URL:https://crfmv.com/en/event/spring-break-fire-and-werewolf-game/
ATTACH;FMTTYPE=image/jpeg:https://crfmv.com/wp-content/uploads/2025/02/Loup_Garou.jpg
END:VEVENT
END:VCALENDAR