BEGIN:VCALENDAR
VERSION:2.0
PRODID:-//CRFM Valcartier - ECPv6.15.20//NONSGML v1.0//EN
CALSCALE:GREGORIAN
METHOD:PUBLISH
X-ORIGINAL-URL:https://crfmv.com/en/
X-WR-CALDESC:Events for CRFM Valcartier
REFRESH-INTERVAL;VALUE=DURATION:PT1H
X-Robots-Tag:noindex
X-PUBLISHED-TTL:PT1H
BEGIN:VTIMEZONE
TZID:America/Toronto
BEGIN:DAYLIGHT
TZOFFSETFROM:-0500
TZOFFSETTO:-0400
TZNAME:EDT
DTSTART:20240310T070000
END:DAYLIGHT
BEGIN:STANDARD
TZOFFSETFROM:-0400
TZOFFSETTO:-0500
TZNAME:EST
DTSTART:20241103T060000
END:STANDARD
BEGIN:DAYLIGHT
TZOFFSETFROM:-0500
TZOFFSETTO:-0400
TZNAME:EDT
DTSTART:20250309T070000
END:DAYLIGHT
BEGIN:STANDARD
TZOFFSETFROM:-0400
TZOFFSETTO:-0500
TZNAME:EST
DTSTART:20251102T060000
END:STANDARD
BEGIN:DAYLIGHT
TZOFFSETFROM:-0500
TZOFFSETTO:-0400
TZNAME:EDT
DTSTART:20260308T070000
END:DAYLIGHT
BEGIN:STANDARD
TZOFFSETFROM:-0400
TZOFFSETTO:-0500
TZNAME:EST
DTSTART:20261101T060000
END:STANDARD
END:VTIMEZONE
BEGIN:VEVENT
DTSTART;TZID=America/Toronto:20250326T090000
DTEND;TZID=America/Toronto:20250326T120000
DTSTAMP:20260421T123721
CREATED:20250217T162206Z
LAST-MODIFIED:20250217T162206Z
UID:13117-1742979600-1742990400@crfmv.com
SUMMARY:Life Plan workshop
DESCRIPTION:Life Plan – Workshops for Veterans\nFIND A DIRECTION AFTER THE FORCES\n\n\n\nThe Valcartier MFRC invites you to participate in four FREE workshops to help you discover your new life path. It’s the perfect opportunity to start spring with clear and inspiring projects!\n\n\n\nIf you are a veteran and…\nYou are questioning yourself and would like to explore your interests\, strengths and value\nYou are in search of meaning and new projects\, but you don’t know where to start\nYou would like to talk to other veterans who want to move forward and find small or big goals to achieve\nYou don’t want to rush into anything\, but would like to reflect on your future?\n\n\n\nREGISTRATION & INFORMATION\n418 844-6060\nnathalie.kirouac@crfmv.com
URL:https://crfmv.com/en/event/life-plan-workshop-4/
LOCATION:Community Centre
ATTACH;FMTTYPE=image/png:https://crfmv.com/wp-content/uploads/2025/02/projet_vie_2025-1.png
END:VEVENT
BEGIN:VEVENT
DTSTART;TZID=America/Toronto:20250326T113000
DTEND;TZID=America/Toronto:20250326T124500
DTSTAMP:20260421T123721
CREATED:20250221T195644Z
LAST-MODIFIED:20250221T195644Z
UID:13187-1742988600-1742993100@crfmv.com
SUMMARY:Midi discussion - Intimidation
DESCRIPTION:INFORMATION \nÉquipe jeunesse \n418 844-6060 or servicesjeunesse@crfmv.com
URL:https://crfmv.com/en/event/midi-discussion-intimidation-2/
LOCATION:École Alexander-Wolff
ATTACH;FMTTYPE=image/png:https://crfmv.com/wp-content/uploads/2025/02/13-26-mars.png
END:VEVENT
END:VCALENDAR