BEGIN:VCALENDAR
VERSION:2.0
PRODID:-//CRFM Valcartier - ECPv6.15.20//NONSGML v1.0//EN
CALSCALE:GREGORIAN
METHOD:PUBLISH
X-ORIGINAL-URL:https://crfmv.com/en/
X-WR-CALDESC:Events for CRFM Valcartier
REFRESH-INTERVAL;VALUE=DURATION:PT1H
X-Robots-Tag:noindex
X-PUBLISHED-TTL:PT1H
BEGIN:VTIMEZONE
TZID:America/Toronto
BEGIN:DAYLIGHT
TZOFFSETFROM:-0500
TZOFFSETTO:-0400
TZNAME:EDT
DTSTART:20240310T070000
END:DAYLIGHT
BEGIN:STANDARD
TZOFFSETFROM:-0400
TZOFFSETTO:-0500
TZNAME:EST
DTSTART:20241103T060000
END:STANDARD
BEGIN:DAYLIGHT
TZOFFSETFROM:-0500
TZOFFSETTO:-0400
TZNAME:EDT
DTSTART:20250309T070000
END:DAYLIGHT
BEGIN:STANDARD
TZOFFSETFROM:-0400
TZOFFSETTO:-0500
TZNAME:EST
DTSTART:20251102T060000
END:STANDARD
BEGIN:DAYLIGHT
TZOFFSETFROM:-0500
TZOFFSETTO:-0400
TZNAME:EDT
DTSTART:20260308T070000
END:DAYLIGHT
BEGIN:STANDARD
TZOFFSETFROM:-0400
TZOFFSETTO:-0500
TZNAME:EST
DTSTART:20261101T060000
END:STANDARD
END:VTIMEZONE
BEGIN:VEVENT
DTSTART;TZID=America/Toronto:20250417T190000
DTEND;TZID=America/Toronto:20250417T204500
DTSTAMP:20260421T111348
CREATED:20250217T153622Z
LAST-MODIFIED:20250217T153622Z
UID:13084-1744916400-1744922700@crfmv.com
SUMMARY:Triple P Conferences
DESCRIPTION:Triple P Conferences\n*in french only\n\n\n\nBecause kids don’t come with an instruction manual …\nParents sometimes need a helping hand. A series of three conferences to improve your relationship with your child and discover simple and concrete tips that will increase your pleasure as a parent!\n\n\n\nRegistration\nhttps://crfmv.info/TripleP\n\n\n\nInformation\nmeggie.julien@crfmv.com
URL:https://crfmv.com/en/event/triple-p-conferences/
LOCATION:VIRTUEL
ATTACH;FMTTYPE=image/png:https://crfmv.com/wp-content/uploads/2025/02/triple-p_printemps25.png
END:VEVENT
END:VCALENDAR