BEGIN:VCALENDAR
VERSION:2.0
PRODID:-//CRFM Valcartier - ECPv6.15.20//NONSGML v1.0//EN
CALSCALE:GREGORIAN
METHOD:PUBLISH
X-WR-CALNAME:CRFM Valcartier
X-ORIGINAL-URL:https://crfmv.com/en/
X-WR-CALDESC:Events for CRFM Valcartier
REFRESH-INTERVAL;VALUE=DURATION:PT1H
X-Robots-Tag:noindex
X-PUBLISHED-TTL:PT1H
BEGIN:VTIMEZONE
TZID:America/Toronto
BEGIN:DAYLIGHT
TZOFFSETFROM:-0500
TZOFFSETTO:-0400
TZNAME:EDT
DTSTART:20240310T070000
END:DAYLIGHT
BEGIN:STANDARD
TZOFFSETFROM:-0400
TZOFFSETTO:-0500
TZNAME:EST
DTSTART:20241103T060000
END:STANDARD
BEGIN:DAYLIGHT
TZOFFSETFROM:-0500
TZOFFSETTO:-0400
TZNAME:EDT
DTSTART:20250309T070000
END:DAYLIGHT
BEGIN:STANDARD
TZOFFSETFROM:-0400
TZOFFSETTO:-0500
TZNAME:EST
DTSTART:20251102T060000
END:STANDARD
BEGIN:DAYLIGHT
TZOFFSETFROM:-0500
TZOFFSETTO:-0400
TZNAME:EDT
DTSTART:20260308T070000
END:DAYLIGHT
BEGIN:STANDARD
TZOFFSETFROM:-0400
TZOFFSETTO:-0500
TZNAME:EST
DTSTART:20261101T060000
END:STANDARD
END:VTIMEZONE
BEGIN:VEVENT
DTSTART;TZID=America/Toronto:20250507T183000
DTEND;TZID=America/Toronto:20250507T193000
DTSTAMP:20260421T111211
CREATED:20250502T180143Z
LAST-MODIFIED:20250502T180143Z
UID:13490-1746642600-1746646200@crfmv.com
SUMMARY:Introduction to yoga (adults and teens)
DESCRIPTION:READY to recharge?\nQuebec Mental Health Week – May\nThis year\, we are honoring the commitment of military families and focusing on your well-being!\nWe offer supportive\, discussion\, and recharging activities.\nCome take a moment for yourself to relax\, connect\, and rejuvenate \nWednesday 7\nIntroduction to yoga\n(adults and teens)\n– $5\n– https://crfmv.info/yoga_m \nFriday 9\nLunch – Chat in the community room\n– $5 meal\n– https://crfmv.info/diner_m \nReady to find your calm and energy?\nJoin us!\nINFORMATION\n418 844-6060\nchantal.thompson@crfmv.com
URL:https://crfmv.com/en/event/introduction-to-yoga-adults-and-teens/
ATTACH;FMTTYPE=image/png:https://crfmv.com/wp-content/uploads/2025/05/pret_ressource.png
END:VEVENT
END:VCALENDAR