BEGIN:VCALENDAR
VERSION:2.0
PRODID:-//CRFM Valcartier - ECPv6.15.20//NONSGML v1.0//EN
CALSCALE:GREGORIAN
METHOD:PUBLISH
X-WR-CALNAME:CRFM Valcartier
X-ORIGINAL-URL:https://crfmv.com/en/
X-WR-CALDESC:Events for CRFM Valcartier
REFRESH-INTERVAL;VALUE=DURATION:PT1H
X-Robots-Tag:noindex
X-PUBLISHED-TTL:PT1H
BEGIN:VTIMEZONE
TZID:America/Toronto
BEGIN:DAYLIGHT
TZOFFSETFROM:-0500
TZOFFSETTO:-0400
TZNAME:EDT
DTSTART:20240310T070000
END:DAYLIGHT
BEGIN:STANDARD
TZOFFSETFROM:-0400
TZOFFSETTO:-0500
TZNAME:EST
DTSTART:20241103T060000
END:STANDARD
BEGIN:DAYLIGHT
TZOFFSETFROM:-0500
TZOFFSETTO:-0400
TZNAME:EDT
DTSTART:20250309T070000
END:DAYLIGHT
BEGIN:STANDARD
TZOFFSETFROM:-0400
TZOFFSETTO:-0500
TZNAME:EST
DTSTART:20251102T060000
END:STANDARD
BEGIN:DAYLIGHT
TZOFFSETFROM:-0500
TZOFFSETTO:-0400
TZNAME:EDT
DTSTART:20260308T070000
END:DAYLIGHT
BEGIN:STANDARD
TZOFFSETFROM:-0400
TZOFFSETTO:-0500
TZNAME:EST
DTSTART:20261101T060000
END:STANDARD
END:VTIMEZONE
BEGIN:VEVENT
DTSTART;TZID=America/Toronto:20250603T180000
DTEND;TZID=America/Toronto:20250603T191500
DTSTAMP:20260421T070118
CREATED:20250530T195724Z
LAST-MODIFIED:20250530T195724Z
UID:13575-1748973600-1748978100@crfmv.com
SUMMARY:Interactive workshop for youth
DESCRIPTION:Posting ahead? Help your kids (5–12 years old) get ready!\nGive them a boost by signing them up for our fun and reassuring prep workshop!\n\n\nune 3 | 6:00 PM – 7:15 PM\nRegistration is mandatory before May 29 via the following link: https://crfmv.info/mutation_5-12_Posting
URL:https://crfmv.com/en/event/interactive-workshop-for-youth/
ATTACH;FMTTYPE=image/png:https://crfmv.com/wp-content/uploads/2025/05/rencontre_mutation_ENFANT_2025.png
END:VEVENT
END:VCALENDAR