BEGIN:VCALENDAR
VERSION:2.0
PRODID:-//CRFM Valcartier - ECPv6.15.20//NONSGML v1.0//EN
CALSCALE:GREGORIAN
METHOD:PUBLISH
X-WR-CALNAME:CRFM Valcartier
X-ORIGINAL-URL:https://crfmv.com/en/
X-WR-CALDESC:Events for CRFM Valcartier
REFRESH-INTERVAL;VALUE=DURATION:PT1H
X-Robots-Tag:noindex
X-PUBLISHED-TTL:PT1H
BEGIN:VTIMEZONE
TZID:America/Toronto
BEGIN:DAYLIGHT
TZOFFSETFROM:-0500
TZOFFSETTO:-0400
TZNAME:EDT
DTSTART:20240310T070000
END:DAYLIGHT
BEGIN:STANDARD
TZOFFSETFROM:-0400
TZOFFSETTO:-0500
TZNAME:EST
DTSTART:20241103T060000
END:STANDARD
BEGIN:DAYLIGHT
TZOFFSETFROM:-0500
TZOFFSETTO:-0400
TZNAME:EDT
DTSTART:20250309T070000
END:DAYLIGHT
BEGIN:STANDARD
TZOFFSETFROM:-0400
TZOFFSETTO:-0500
TZNAME:EST
DTSTART:20251102T060000
END:STANDARD
BEGIN:DAYLIGHT
TZOFFSETFROM:-0500
TZOFFSETTO:-0400
TZNAME:EDT
DTSTART:20260308T070000
END:DAYLIGHT
BEGIN:STANDARD
TZOFFSETFROM:-0400
TZOFFSETTO:-0500
TZNAME:EST
DTSTART:20261101T060000
END:STANDARD
END:VTIMEZONE
BEGIN:VEVENT
DTSTART;TZID=America/Toronto:20250607T080000
DTEND;TZID=America/Toronto:20250607T090000
DTSTAMP:20260421T070112
CREATED:20250530T201612Z
LAST-MODIFIED:20250530T201612Z
UID:13597-1749283200-1749286800@crfmv.com
SUMMARY:Donation Day
DESCRIPTION:Give Your Items a Second Life!\n\n\nBeing posted\, moving\, spring cleaning\, or decluttering? Donate what you no longer need:\nClothing\n\n\nToys\nVarious items in good condition\n\nCommunity Centre (Building 93)\n\n\nJune 3 to 6: 8:30 a.m. to 4:30 p.m.\nSaturday\, June 7: 8 a.m. to 9 a.m.\nOutdoor bin available in the evening (near the door)\n\n\nOpen to all | Free\n\n\nInfo: Chantal.thompson@crfmv.com\nExtra items will be donated to a local organization.\nThank you for making a difference in our community
URL:https://crfmv.com/en/event/donation-day/
ATTACH;FMTTYPE=image/png:https://crfmv.com/wp-content/uploads/2025/05/veux-tu-ca_Vignette-FB.png
END:VEVENT
END:VCALENDAR