BEGIN:VCALENDAR
VERSION:2.0
PRODID:-//CRFM Valcartier - ECPv6.15.20//NONSGML v1.0//EN
CALSCALE:GREGORIAN
METHOD:PUBLISH
X-ORIGINAL-URL:https://crfmv.com/en/
X-WR-CALDESC:Events for CRFM Valcartier
REFRESH-INTERVAL;VALUE=DURATION:PT1H
X-Robots-Tag:noindex
X-PUBLISHED-TTL:PT1H
BEGIN:VTIMEZONE
TZID:America/Toronto
BEGIN:DAYLIGHT
TZOFFSETFROM:-0500
TZOFFSETTO:-0400
TZNAME:EDT
DTSTART:20240310T070000
END:DAYLIGHT
BEGIN:STANDARD
TZOFFSETFROM:-0400
TZOFFSETTO:-0500
TZNAME:EST
DTSTART:20241103T060000
END:STANDARD
BEGIN:DAYLIGHT
TZOFFSETFROM:-0500
TZOFFSETTO:-0400
TZNAME:EDT
DTSTART:20250309T070000
END:DAYLIGHT
BEGIN:STANDARD
TZOFFSETFROM:-0400
TZOFFSETTO:-0500
TZNAME:EST
DTSTART:20251102T060000
END:STANDARD
BEGIN:DAYLIGHT
TZOFFSETFROM:-0500
TZOFFSETTO:-0400
TZNAME:EDT
DTSTART:20260308T070000
END:DAYLIGHT
BEGIN:STANDARD
TZOFFSETFROM:-0400
TZOFFSETTO:-0500
TZNAME:EST
DTSTART:20261101T060000
END:STANDARD
END:VTIMEZONE
BEGIN:VEVENT
DTSTART;TZID=America/Toronto:20250825T083000
DTEND;TZID=America/Toronto:20250825T170000
DTSTAMP:20260421T043951
CREATED:20250820T171203Z
LAST-MODIFIED:20250820T171203Z
UID:14050-1756110600-1756141200@crfmv.com
SUMMARY:VMFRC fall program begins—register now!
DESCRIPTION:Your Fall starts at the Valcartier Military Family Resource Centre!  Registration starts August 25. See the full schedule featured on our portal: www.crfmv.com/en/\n*Priority given to military families\, reservists\, and veterans
URL:https://crfmv.com/en/event/vmfrc-fall-program-begins-register-now/
ATTACH;FMTTYPE=image/jpeg:https://crfmv.com/wp-content/uploads/2025/08/family-with-cute-kids-autumn-park-scaled.jpg
END:VEVENT
END:VCALENDAR