BEGIN:VCALENDAR
VERSION:2.0
PRODID:-//CRFM Valcartier - ECPv6.15.20//NONSGML v1.0//EN
CALSCALE:GREGORIAN
METHOD:PUBLISH
X-ORIGINAL-URL:https://crfmv.com/en/
X-WR-CALDESC:Events for CRFM Valcartier
REFRESH-INTERVAL;VALUE=DURATION:PT1H
X-Robots-Tag:noindex
X-PUBLISHED-TTL:PT1H
BEGIN:VTIMEZONE
TZID:America/Toronto
BEGIN:DAYLIGHT
TZOFFSETFROM:-0500
TZOFFSETTO:-0400
TZNAME:EDT
DTSTART:20240310T070000
END:DAYLIGHT
BEGIN:STANDARD
TZOFFSETFROM:-0400
TZOFFSETTO:-0500
TZNAME:EST
DTSTART:20241103T060000
END:STANDARD
BEGIN:DAYLIGHT
TZOFFSETFROM:-0500
TZOFFSETTO:-0400
TZNAME:EDT
DTSTART:20250309T070000
END:DAYLIGHT
BEGIN:STANDARD
TZOFFSETFROM:-0400
TZOFFSETTO:-0500
TZNAME:EST
DTSTART:20251102T060000
END:STANDARD
BEGIN:DAYLIGHT
TZOFFSETFROM:-0500
TZOFFSETTO:-0400
TZNAME:EDT
DTSTART:20260308T070000
END:DAYLIGHT
BEGIN:STANDARD
TZOFFSETFROM:-0400
TZOFFSETTO:-0500
TZNAME:EST
DTSTART:20261101T060000
END:STANDARD
END:VTIMEZONE
BEGIN:VEVENT
DTSTART;TZID=America/Toronto:20250910T170000
DTEND;TZID=America/Toronto:20250910T200000
DTSTAMP:20260421T031607
CREATED:20250902T193814Z
LAST-MODIFIED:20250902T193814Z
UID:14103-1757523600-1757534400@crfmv.com
SUMMARY:Annual general meeting
DESCRIPTION:NOTICE OF MEETING | Valcartier Military Family Resource Center. 2025 Annual General Meeting. By Anne St-Gelais\, Corporate Secretary.\nThe Board of Directors of the Valcartier Military Family Resource Center cordially invites you to its Annual General Meeting on Wednesday\, September 10\, 2025\, at 6 p.m.\, at the Community Center\, Building 93\, P.O. Box 1000\, Forces Station Courcelette\, Quebec\, G0A 4Z0.\nWe will welcome you at 5 p.m. with hors d’oeuvres and a wine reception. This will be an ideal opportunity to meet and talk with other members of the community. \nRegistration \nhttps://www.zeffy.com/fr-CA/ticketing/cocktail-de-bienvenue-et-assemblee-generale-du-crfm-valcartier?fbclid=IwY2xjawMkJaRleHRuA2FlbQIxMABicmlkETFXWHNKdmtKWTJ2QzMwVkRBAR7RAyY_pLCmr2wd6ipBxlTMC7T3CLNQ_FS5kGi-1PsXZ2IEjnHY2INfZtP3OA_aem_pBHcUhozC3JS77YBhB5k0w
URL:https://crfmv.com/en/event/annual-general-meeting/
ATTACH;FMTTYPE=image/png:https://crfmv.com/wp-content/uploads/2025/09/Capture-decran-le-2025-08-21-a-13.19.00.png
END:VEVENT
END:VCALENDAR