BEGIN:VCALENDAR
VERSION:2.0
PRODID:-//CRFM Valcartier - ECPv6.15.20//NONSGML v1.0//EN
CALSCALE:GREGORIAN
METHOD:PUBLISH
X-ORIGINAL-URL:https://crfmv.com/en/
X-WR-CALDESC:Events for CRFM Valcartier
REFRESH-INTERVAL;VALUE=DURATION:PT1H
X-Robots-Tag:noindex
X-PUBLISHED-TTL:PT1H
BEGIN:VTIMEZONE
TZID:America/Toronto
BEGIN:DAYLIGHT
TZOFFSETFROM:-0500
TZOFFSETTO:-0400
TZNAME:EDT
DTSTART:20220313T070000
END:DAYLIGHT
BEGIN:STANDARD
TZOFFSETFROM:-0400
TZOFFSETTO:-0500
TZNAME:EST
DTSTART:20221106T060000
END:STANDARD
BEGIN:DAYLIGHT
TZOFFSETFROM:-0500
TZOFFSETTO:-0400
TZNAME:EDT
DTSTART:20230312T070000
END:DAYLIGHT
BEGIN:STANDARD
TZOFFSETFROM:-0400
TZOFFSETTO:-0500
TZNAME:EST
DTSTART:20231105T060000
END:STANDARD
BEGIN:DAYLIGHT
TZOFFSETFROM:-0500
TZOFFSETTO:-0400
TZNAME:EDT
DTSTART:20240310T070000
END:DAYLIGHT
BEGIN:STANDARD
TZOFFSETFROM:-0400
TZOFFSETTO:-0500
TZNAME:EST
DTSTART:20241103T060000
END:STANDARD
END:VTIMEZONE
BEGIN:VEVENT
DTSTART;TZID=America/Toronto:20231108T190000
DTEND;TZID=America/Toronto:20231108T204500
DTSTAMP:20260424T190237
CREATED:20231108T233644Z
LAST-MODIFIED:20231108T233644Z
UID:11080-1699470000-1699476300@crfmv.com
SUMMARY:Positive Parenting Program
DESCRIPTION:Conférences Triple P \nParce que les enfants ne viennent pas avec un manuel d’instructions…Les parents ont parfois besoin d’un coup de pouce. Série de trois conférences pour améliorer votre relation avec votre enfant et découvrir des trucs simples et concrets qui augmenteront votre plaisir d’être parent! (English will follow) \nC’est gratuit \nInscription\nhttps://crfmv.info/TripleP \nInformation\naudrey.charland@crfmv.com \n________________________________ \nTriple P Conferences\n*in french only \nBecause kids don’t come with an instruction manual …\nParents sometimes need a helping hand. A series of three conferences to improve your relationship with your child and discover simple and concrete tips that will increase your pleasure as a parent! \nIt’s free \nRegistration\nhttps://crfmv.info/TripleP \nInformation\naudrey.charland@crfmv.com
URL:https://crfmv.com/en/event/positive-parenting-program/
ATTACH;FMTTYPE=image/png:https://crfmv.com/wp-content/uploads/2023/11/triple-p_automne23.png
END:VEVENT
BEGIN:VEVENT
DTSTART;TZID=America/Toronto:20231119T094500
DTEND;TZID=America/Toronto:20231119T130000
DTSTAMP:20260424T190237
CREATED:20231108T234857Z
LAST-MODIFIED:20231108T234857Z
UID:11096-1700387100-1700398800@crfmv.com
SUMMARY:La Vallée Secrète
DESCRIPTION:Activité pères / enfants (English will follow)\n\n\nRenforcez les liens avec vos enfants en passant un moment privilégié avec eux. Une expérience positive et une occasion d’échanger avec d’autres pères.\n\n\nAnnulé en cas de mauvaise température\n\n\nApportez votre lunch et des vêtements adaptés à la température (activité extérieure)\n\n\nRendez-vous à l’accueil de « La Vallée Secrète » pour 9h45\n1010\, Chemin de la Traverse\nSaint-Raymond (QC) G3L 3C4\n\n\nINFORMATION / INSCRIPTION\nhttps://crfmv.info/pere_father\n418 844-6060\nTanya.langlois@crfmv.com\n\n\n———————–\n\n\nFather/Child activity\n\n\nReinforce ties with your children by spending quality time with them.\nA great opportunity to meet and chat with other dads.\n\n\nCancelled in case of bad weather.\n\n\nBring your lunch and weather-appropriate clothing (outdoor activity)\n\n\nMeet us at « La Vallée Secrète » front desk by 9:45 am.\n1010\, Chemin de la Traverse\nSaint-Raymond (QC) G3L 3C4\n\n\nINFORMATION / INSCRIPTION\nhttps://crfmv.info/pere_father\n418 844-6060\nTanya.langlois@crfmv.com
URL:https://crfmv.com/en/event/la-vallee-secrete/
END:VEVENT
BEGIN:VEVENT
DTSTART;TZID=America/Toronto:20231122T090000
DTEND;TZID=America/Toronto:20231122T110000
DTSTAMP:20260424T190237
CREATED:20231110T152653Z
LAST-MODIFIED:20231110T152747Z
UID:11110-1700643600-1700650800@crfmv.com
SUMMARY:Centraide Coffee-break
DESCRIPTION:Le Centre de ressources pour les familles militaires Valcartier invite la communauté à son annuel café Centraide. Au Centre communautaire (Édifice 93)\n\n\nApportez votre monnaie!\n\n\nNOUVEAUTÉ : tirage moitié-moitié\n\n\nINFORMATION\nchantal.thompson@crfmv.com\n418 844-6060\n\n\nTous les fonds iront à Centraide Québec et Chaudière-Appalaches\n\n\nVous pouvez aussi contribuer en nous apportant votre meilleure collation ou pâtisserie pour que nous puisons les vendre ou en venant vous régaler à la pause-café. Vous pouvez apporter vos plats de 8 h 30 à 15h30 le 20 et 21 novembre au CRFMV.\n\n\n———————————–\n\n\nThe Valcartier Military Family Resource Centre invites the community to its annual Centraide Coffee-break. At the Community Centre (Building 93)\n\n\nBring your change!\n\n\nNEW: 50/50 draw\n\n\nINFORMATION\nchantal.thompson@crfmv.com\n418 844-6060\n\n\nAll funds will go to: Centraide Québec et Chaudière-Appalaches.\n\n\nYou can also contribute by bringing your best snack or pastry for us to sell\, or by coming for a coffee break. You can bring your dishes from 8:30 a.m. to 3:30 p.m. on November 20 and 21 at the MFRC.
URL:https://crfmv.com/en/event/centraide-coffee-break/
END:VEVENT
BEGIN:VEVENT
DTSTART;TZID=America/Toronto:20231122T190000
DTEND;TZID=America/Toronto:20231122T210000
DTSTAMP:20260424T190237
CREATED:20231108T233843Z
LAST-MODIFIED:20231108T233851Z
UID:11082-1700679600-1700686800@crfmv.com
SUMMARY:Positive Parenting Program
DESCRIPTION:Conférences Triple P \nParce que les enfants ne viennent pas avec un manuel d’instructions…Les parents ont parfois besoin d’un coup de pouce. Série de trois conférences pour améliorer votre relation avec votre enfant et découvrir des trucs simples et concrets qui augmenteront votre plaisir d’être parent! (English will follow) \nC’est gratuit \nInscription\nhttps://crfmv.info/TripleP \nInformation\naudrey.charland@crfmv.com \n________________________________ \nTriple P Conferences\n*in french only \nBecause kids don’t come with an instruction manual …\nParents sometimes need a helping hand. A series of three conferences to improve your relationship with your child and discover simple and concrete tips that will increase your pleasure as a parent! \nIt’s free \nRegistration\nhttps://crfmv.info/TripleP \nInformation\naudrey.charland@crfmv.com
URL:https://crfmv.com/en/event/positive-parenting-program-2/
ATTACH;FMTTYPE=image/png:https://crfmv.com/wp-content/uploads/2023/11/triple-p_automne23.png
END:VEVENT
BEGIN:VEVENT
DTSTART;TZID=America/Toronto:20231124T083000
DTEND;TZID=America/Toronto:20231215T163000
DTSTAMP:20260424T190237
CREATED:20231108T235752Z
LAST-MODIFIED:20231108T235752Z
UID:11108-1700814600-1702657800@crfmv.com
SUMMARY:A mailbox for Santa Claus
DESCRIPTION:Une boite aux lettres pour le Père Noël sera disponible à l’accueil du centre communautaire (Édifice 93). (English will follow)\n\n\nInformation\nsandrine.deseve@crfmv.com\n\n\n———————-\nA mailbox for Santa Claus will be available at the front desk of the Community Centre\n(Building 93).\n\n\nInformation\nsandrine.deseve@crfmv.com
URL:https://crfmv.com/en/event/a-mailbox-for-santa-claus/
END:VEVENT
BEGIN:VEVENT
DTSTART;TZID=America/Toronto:20231127T190000
DTEND;TZID=America/Toronto:20231127T213000
DTSTAMP:20260424T190237
CREATED:20231108T235127Z
LAST-MODIFIED:20231108T235127Z
UID:11098-1701111600-1701120600@crfmv.com
SUMMARY:Compassion Fatigue
DESCRIPTION:Vous vous questionnez à propos de la fatigue de compassion? Vous souhaitez en apprendre plus sur le sujet? (English will follow)\n\n\nCet atelier vise à améliorer vos connaissances sur la fatigue de compassion et les moyens pour la prévenir\, exprimer vos préoccupations sur le sujet ainsi que fournir des ressources en cas de besoin.\n\n\nInscription avant le 24 novembre\nhttps://crfmv.info/fatigue\n\n\nINFORMATION\nmaude.arsenault@crfmv.com\n1-877-844-6060\n\n\n———————–\n\n\nYou have questions about compassion fatigue? You would like to learn more about it?\n\n\nThis workshop will allow you to better understand compassion fatigue and how to prevent it\, express your concerns and learn about available ressources.\n\n\nRegistration before November 24\nhttps://crfmv.info/fatigue\n\n\nINFORMATION\nmaude.arsenault@crfmv.com\n1-877-844-6060
URL:https://crfmv.com/en/event/compassion-fatigue/
END:VEVENT
END:VCALENDAR