BEGIN:VCALENDAR
VERSION:2.0
PRODID:-//CRFM Valcartier - ECPv6.15.20//NONSGML v1.0//EN
CALSCALE:GREGORIAN
METHOD:PUBLISH
X-WR-CALNAME:CRFM Valcartier
X-ORIGINAL-URL:https://crfmv.com/en/
X-WR-CALDESC:Events for CRFM Valcartier
REFRESH-INTERVAL;VALUE=DURATION:PT1H
X-Robots-Tag:noindex
X-PUBLISHED-TTL:PT1H
BEGIN:VTIMEZONE
TZID:America/Toronto
BEGIN:DAYLIGHT
TZOFFSETFROM:-0500
TZOFFSETTO:-0400
TZNAME:EDT
DTSTART:20230312T070000
END:DAYLIGHT
BEGIN:STANDARD
TZOFFSETFROM:-0400
TZOFFSETTO:-0500
TZNAME:EST
DTSTART:20231105T060000
END:STANDARD
BEGIN:DAYLIGHT
TZOFFSETFROM:-0500
TZOFFSETTO:-0400
TZNAME:EDT
DTSTART:20240310T070000
END:DAYLIGHT
BEGIN:STANDARD
TZOFFSETFROM:-0400
TZOFFSETTO:-0500
TZNAME:EST
DTSTART:20241103T060000
END:STANDARD
BEGIN:DAYLIGHT
TZOFFSETFROM:-0500
TZOFFSETTO:-0400
TZNAME:EDT
DTSTART:20250309T070000
END:DAYLIGHT
BEGIN:STANDARD
TZOFFSETFROM:-0400
TZOFFSETTO:-0500
TZNAME:EST
DTSTART:20251102T060000
END:STANDARD
END:VTIMEZONE
BEGIN:VEVENT
DTSTART;TZID=America/Toronto:20240417T190000
DTEND;TZID=America/Toronto:20240417T203000
DTSTAMP:20260424T110541
CREATED:20240220T184637Z
LAST-MODIFIED:20240220T184637Z
UID:11387-1713380400-1713385800@crfmv.com
SUMMARY:Workshop: Balancing work and family life
DESCRIPTION:Juggling work\, family and all the other aspects of life is no easy task. Wearing multiple hats can bring its share of emotions and constantly require you to adapt. Are you looking for a better balance? Would you like some tools to help you get there? Would you like to better understand your challenges and priorities?\n\n\nJoin us for this virtual workshop on work-life balance\, offered by a guidance counselor.\n\n\nFree\n\n\nMandatory registration before April 8: https://crfmv.info/fam\n\n\nINFORMATION\nrosalie.roy@crfmv.com\n418 844-6060\n\n\n————————————–\n\n\n\nJongler entre le travail\, la famille et l’ensemble des autres sphères de la vie n’est pas de tout repos. Porter de nombreux chapeaux peut amener son lot d’émotions et vous demander constamment de vous adapter. Vous êtes en quête d’un meilleur équilibre et aimeriez des outils pour y arriver ? Vous aimeriez mieux comprendre vos enjeux et vos priorités ? (English will follow)\n\n\nJoignez-vous à nous dans le cadre de cet atelier virtuel sur la conciliation travail-famille\, offert par une conseillère d’orientation.\n\n\nGratuit\n\n\nInscription obligatoire avant le 8 avril : https://crfmv.info/fam\n\n\nINFORMATION\nrosalie.roy@crfmv.com\n418 844-6060
URL:https://crfmv.com/en/event/workshop-balancing-work-and-family-life/
END:VEVENT
BEGIN:VEVENT
DTSTART;TZID=America/Toronto:20240417T190000
DTEND;TZID=America/Toronto:20240417T203000
DTSTAMP:20260424T110541
CREATED:20240220T184842Z
LAST-MODIFIED:20240220T184842Z
UID:11389-1713380400-1713385800@crfmv.com
SUMMARY:Workshop: Balancing work and family life
DESCRIPTION:Juggling work\, family and all the other aspects of life is no easy task. Wearing multiple hats can bring its share of emotions and constantly require you to adapt. Are you looking for a better balance? Would you like some tools to help you get there? Would you like to better understand your challenges and priorities?\n\n\nJoin us for this virtual workshop on work-life balance\, offered by a guidance counselor.\n\n\nFree\n\n\nMandatory registration before April 8: https://crfmv.info/fam\n\n\nINFORMATION\nrosalie.roy@crfmv.com\n418 844-6060\n\n\n————————————–\n\n\n\nJongler entre le travail\, la famille et l’ensemble des autres sphères de la vie n’est pas de tout repos. Porter de nombreux chapeaux peut amener son lot d’émotions et vous demander constamment de vous adapter. Vous êtes en quête d’un meilleur équilibre et aimeriez des outils pour y arriver ? Vous aimeriez mieux comprendre vos enjeux et vos priorités ? (English will follow)\n\n\nJoignez-vous à nous dans le cadre de cet atelier virtuel sur la conciliation travail-famille\, offert par une conseillère d’orientation.\n\n\nGratuit\n\n\nInscription obligatoire avant le 8 avril : https://crfmv.info/fam\n\n\nINFORMATION\nrosalie.roy@crfmv.com\n418 844-6060
URL:https://crfmv.com/en/event/workshop-balancing-work-and-family-life-2/
END:VEVENT
END:VCALENDAR