BEGIN:VCALENDAR
VERSION:2.0
PRODID:-//CRFM Valcartier - ECPv6.15.20//NONSGML v1.0//EN
CALSCALE:GREGORIAN
METHOD:PUBLISH
X-ORIGINAL-URL:https://crfmv.com/en/
X-WR-CALDESC:Events for CRFM Valcartier
REFRESH-INTERVAL;VALUE=DURATION:PT1H
X-Robots-Tag:noindex
X-PUBLISHED-TTL:PT1H
BEGIN:VTIMEZONE
TZID:America/Toronto
BEGIN:DAYLIGHT
TZOFFSETFROM:-0500
TZOFFSETTO:-0400
TZNAME:EDT
DTSTART:20240310T070000
END:DAYLIGHT
BEGIN:STANDARD
TZOFFSETFROM:-0400
TZOFFSETTO:-0500
TZNAME:EST
DTSTART:20241103T060000
END:STANDARD
BEGIN:DAYLIGHT
TZOFFSETFROM:-0500
TZOFFSETTO:-0400
TZNAME:EDT
DTSTART:20250309T070000
END:DAYLIGHT
BEGIN:STANDARD
TZOFFSETFROM:-0400
TZOFFSETTO:-0500
TZNAME:EST
DTSTART:20251102T060000
END:STANDARD
BEGIN:DAYLIGHT
TZOFFSETFROM:-0500
TZOFFSETTO:-0400
TZNAME:EDT
DTSTART:20260308T070000
END:DAYLIGHT
BEGIN:STANDARD
TZOFFSETFROM:-0400
TZOFFSETTO:-0500
TZNAME:EST
DTSTART:20261101T060000
END:STANDARD
END:VTIMEZONE
BEGIN:VEVENT
DTSTART;TZID=America/Toronto:20250116T113000
DTEND;TZID=America/Toronto:20250116T124500
DTSTAMP:20260421T152132
CREATED:20241121T195706Z
LAST-MODIFIED:20241125T182821Z
UID:12553-1737027000-1737031500@crfmv.com
SUMMARY:Midi discussion - Deployment
DESCRIPTION:From 11h30 to 12h45\n\nINFORMATION\nÉquipe jeunesse\n418 844-6060\nservicesjeunesse@crfmv.com
URL:https://crfmv.com/en/event/midi-discussion-deployment/
ATTACH;FMTTYPE=image/png:https://crfmv.com/wp-content/uploads/2024/11/16-29-janvier.png
END:VEVENT
BEGIN:VEVENT
DTSTART;TZID=America/Toronto:20250129T113000
DTEND;TZID=America/Toronto:20250129T124500
DTSTAMP:20260421T152132
CREATED:20241121T200025Z
LAST-MODIFIED:20241125T182654Z
UID:12557-1738150200-1738154700@crfmv.com
SUMMARY:Midi discussion - The deployment
DESCRIPTION:From 11h30 to 12h45\n\nINFORMATION\nÉquipe jeunesse\n418 844-6060\nservicesjeunesse@crfmv.com
URL:https://crfmv.com/en/event/midi-discussion-the-deployment/
ATTACH;FMTTYPE=image/png:https://crfmv.com/wp-content/uploads/2024/11/16-29-janvier.png
END:VEVENT
END:VCALENDAR