BEGIN:VCALENDAR
VERSION:2.0
PRODID:-//CRFM Valcartier - ECPv6.15.20//NONSGML v1.0//EN
CALSCALE:GREGORIAN
METHOD:PUBLISH
X-WR-CALNAME:CRFM Valcartier
X-ORIGINAL-URL:https://crfmv.com/en/
X-WR-CALDESC:Events for CRFM Valcartier
REFRESH-INTERVAL;VALUE=DURATION:PT1H
X-Robots-Tag:noindex
X-PUBLISHED-TTL:PT1H
BEGIN:VTIMEZONE
TZID:America/Toronto
BEGIN:DAYLIGHT
TZOFFSETFROM:-0500
TZOFFSETTO:-0400
TZNAME:EDT
DTSTART:20240310T070000
END:DAYLIGHT
BEGIN:STANDARD
TZOFFSETFROM:-0400
TZOFFSETTO:-0500
TZNAME:EST
DTSTART:20241103T060000
END:STANDARD
BEGIN:DAYLIGHT
TZOFFSETFROM:-0500
TZOFFSETTO:-0400
TZNAME:EDT
DTSTART:20250309T070000
END:DAYLIGHT
BEGIN:STANDARD
TZOFFSETFROM:-0400
TZOFFSETTO:-0500
TZNAME:EST
DTSTART:20251102T060000
END:STANDARD
BEGIN:DAYLIGHT
TZOFFSETFROM:-0500
TZOFFSETTO:-0400
TZNAME:EDT
DTSTART:20260308T070000
END:DAYLIGHT
BEGIN:STANDARD
TZOFFSETFROM:-0400
TZOFFSETTO:-0500
TZNAME:EST
DTSTART:20261101T060000
END:STANDARD
END:VTIMEZONE
BEGIN:VEVENT
DTSTART;TZID=America/Toronto:20250213T113000
DTEND;TZID=America/Toronto:20250213T124500
DTSTAMP:20260421T123708
CREATED:20241121T202729Z
LAST-MODIFIED:20241121T202729Z
UID:12569-1739446200-1739450700@crfmv.com
SUMMARY:Midi discussion - Social networks
DESCRIPTION:INFORMATION\nÉquipe jeunesse\n418 844-6060\nservicesjeunesse@crfmv.com
URL:https://crfmv.com/en/event/midi-discussion-social-networks/
ATTACH;FMTTYPE=image/png:https://crfmv.com/wp-content/uploads/2024/11/13-26-fevrier.png
END:VEVENT
BEGIN:VEVENT
DTSTART;TZID=America/Toronto:20250226T113000
DTEND;TZID=America/Toronto:20250226T124500
DTSTAMP:20260421T123708
CREATED:20241121T203016Z
LAST-MODIFIED:20241121T203016Z
UID:12573-1740569400-1740573900@crfmv.com
SUMMARY:Midi discussion - Social networks
DESCRIPTION:INFORMATION\nÉquipe jeunesse\n418 844-6060\nservicesjeunesse@crfmv.com
URL:https://crfmv.com/en/event/midi-discussion-social-networks-2/
ATTACH;FMTTYPE=image/png:https://crfmv.com/wp-content/uploads/2024/11/13-26-fevrier.png
END:VEVENT
BEGIN:VEVENT
DTSTART;TZID=America/Toronto:20250227T183000
DTEND;TZID=America/Toronto:20250227T200000
DTSTAMP:20260421T123708
CREATED:20250217T152333Z
LAST-MODIFIED:20250217T152333Z
UID:13072-1740681000-1740686400@crfmv.com
SUMMARY:Let's talk about it: Painting flower pots
DESCRIPTION:At the Community Centre (Building 93).\nAn ideal opportunity to meet new people and discover the services offered by the VMFRC.\n\n\n\n∞ Bulbs and seeds will be offered.\n∞ Materials provided.\n\n\n\nRegistration\nbefore February 20\nhttps://crfmv.info/parle_talk\n\n\n\nChildcare service available (limited places).\nReserve early | 418 844-5000\, ext. 3581. Cost $5/hour\n\n\n\nInformation\n418 844-6060\nChantal.thompson@crfmv.com\n\n\n\n\n\n\n\n\n\n\n\n\n\n\n\n\n\n\n\n\n\n\n\n\n\n\n\n\n\nMettre en avant\n\n\n\n\n\n\n\n\n\n\n\n\n\n\n\n\n\nJ’aime\n\n\n\n \n\n\n\n\n\n\n\nCommenter\n\n\n\n\n\n\n\n\nPartager
URL:https://crfmv.com/en/event/lets-talk-about-it-painting-flower-pots/
ATTACH;FMTTYPE=image/png:https://crfmv.com/wp-content/uploads/2025/02/ici_on_parle_fevrier.png
END:VEVENT
END:VCALENDAR