BEGIN:VCALENDAR
VERSION:2.0
PRODID:-//CRFM Valcartier - ECPv6.15.20//NONSGML v1.0//EN
CALSCALE:GREGORIAN
METHOD:PUBLISH
X-ORIGINAL-URL:https://crfmv.com/en/
X-WR-CALDESC:Events for CRFM Valcartier
REFRESH-INTERVAL;VALUE=DURATION:PT1H
X-Robots-Tag:noindex
X-PUBLISHED-TTL:PT1H
BEGIN:VTIMEZONE
TZID:America/Toronto
BEGIN:DAYLIGHT
TZOFFSETFROM:-0500
TZOFFSETTO:-0400
TZNAME:EDT
DTSTART:20240310T070000
END:DAYLIGHT
BEGIN:STANDARD
TZOFFSETFROM:-0400
TZOFFSETTO:-0500
TZNAME:EST
DTSTART:20241103T060000
END:STANDARD
BEGIN:DAYLIGHT
TZOFFSETFROM:-0500
TZOFFSETTO:-0400
TZNAME:EDT
DTSTART:20250309T070000
END:DAYLIGHT
BEGIN:STANDARD
TZOFFSETFROM:-0400
TZOFFSETTO:-0500
TZNAME:EST
DTSTART:20251102T060000
END:STANDARD
BEGIN:DAYLIGHT
TZOFFSETFROM:-0500
TZOFFSETTO:-0400
TZNAME:EDT
DTSTART:20260308T070000
END:DAYLIGHT
BEGIN:STANDARD
TZOFFSETFROM:-0400
TZOFFSETTO:-0500
TZNAME:EST
DTSTART:20261101T060000
END:STANDARD
END:VTIMEZONE
BEGIN:VEVENT
DTSTART;TZID=America/Toronto:20250402T090000
DTEND;TZID=America/Toronto:20250402T120000
DTSTAMP:20260421T082204
CREATED:20250217T160534Z
LAST-MODIFIED:20250217T160534Z
UID:13107-1743584400-1743595200@crfmv.com
SUMMARY:Life Plan workshop
DESCRIPTION:Life Plan – Workshops for Veterans\nFIND A DIRECTION AFTER THE FORCES\n\n\n\nThe Valcartier MFRC invites you to participate in four FREE workshops to help you discover your new life path. It’s the perfect opportunity to start spring with clear and inspiring projects!\n\n\n\nIf you are a veteran and…\nYou are questioning yourself and would like to explore your interests\, strengths and value\nYou are in search of meaning and new projects\, but you don’t know where to start\nYou would like to talk to other veterans who want to move forward and find small or big goals to achieve\nYou don’t want to rush into anything\, but would like to reflect on your future?\n\n\n\nREGISTRATION & INFORMATION\n418 844-6060\nnathalie.kirouac@crfmv.com
URL:https://crfmv.com/en/event/life-plan-workshop/
LOCATION:Centre Communautaire
ATTACH;FMTTYPE=image/png:https://crfmv.com/wp-content/uploads/2025/02/projet_vie_2025-1.png
END:VEVENT
BEGIN:VEVENT
DTSTART;TZID=America/Toronto:20250403T190000
DTEND;TZID=America/Toronto:20250403T204500
DTSTAMP:20260421T082204
CREATED:20250217T153746Z
LAST-MODIFIED:20250217T153746Z
UID:13086-1743706800-1743713100@crfmv.com
SUMMARY:Triple P Conferences
DESCRIPTION:Triple P Conferences\n*in french only\n\n\n\nBecause kids don’t come with an instruction manual …\nParents sometimes need a helping hand. A series of three conferences to improve your relationship with your child and discover simple and concrete tips that will increase your pleasure as a parent!\n\n\n\nRegistration\nhttps://crfmv.info/TripleP\n\n\n\nInformation\nmeggie.julien@crfmv.com
URL:https://crfmv.com/en/event/triple-p-conferences-2/
LOCATION:VIRTUEL
ATTACH;FMTTYPE=image/png:https://crfmv.com/wp-content/uploads/2025/02/triple-p_printemps25.png
END:VEVENT
BEGIN:VEVENT
DTSTART;TZID=America/Toronto:20250410T113000
DTEND;TZID=America/Toronto:20250410T124500
DTSTAMP:20260421T082204
CREATED:20241121T202013Z
LAST-MODIFIED:20241125T181104Z
UID:12561-1744284600-1744289100@crfmv.com
SUMMARY:Midi discussion - Sexuality
DESCRIPTION:From 11h30 to 12h45\n\nINFORMATION\nÉquipe jeunesse\n418 844-6060\nservicesjeunesse@crfmv.com
URL:https://crfmv.com/en/event/midi-discussion-sexuality/
ATTACH;FMTTYPE=image/png:https://crfmv.com/wp-content/uploads/2024/11/10-23-avril.png
END:VEVENT
BEGIN:VEVENT
DTSTART;TZID=America/Toronto:20250417T190000
DTEND;TZID=America/Toronto:20250417T204500
DTSTAMP:20260421T082204
CREATED:20250217T153622Z
LAST-MODIFIED:20250217T153622Z
UID:13084-1744916400-1744922700@crfmv.com
SUMMARY:Triple P Conferences
DESCRIPTION:Triple P Conferences\n*in french only\n\n\n\nBecause kids don’t come with an instruction manual …\nParents sometimes need a helping hand. A series of three conferences to improve your relationship with your child and discover simple and concrete tips that will increase your pleasure as a parent!\n\n\n\nRegistration\nhttps://crfmv.info/TripleP\n\n\n\nInformation\nmeggie.julien@crfmv.com
URL:https://crfmv.com/en/event/triple-p-conferences/
LOCATION:VIRTUEL
ATTACH;FMTTYPE=image/png:https://crfmv.com/wp-content/uploads/2025/02/triple-p_printemps25.png
END:VEVENT
BEGIN:VEVENT
DTSTART;TZID=America/Toronto:20250422T183000
DTEND;TZID=America/Toronto:20250422T203000
DTSTAMP:20260421T082204
CREATED:20250417T185454Z
LAST-MODIFIED:20250417T185454Z
UID:13432-1745346600-1745353800@crfmv.com
SUMMARY:Celebrate together the Earth Day
DESCRIPTION:Celebrating the earth together\n\n\nWith family\, friends or on your own… Come and prepare your vegetable and flower seedings.\n\n\nMaterials provided (pots\, soil\, seeds)\, but you’re welcome to bring your own. You can also grow seedlings on site in a communal garden. An expert will be on hand to help you.\n* limited amount of material\n\n\nAt the Community Centre (Buiilding 93)\n\n\nOpen to all and it’s free!\n\n\nRegistration before April 21\nhttps://crfmv.info/terre_earth\n\n\nINFORMATION\n418 844-6060\nCHANTAL.THOMPSON@CRFMV.COM\n\n\nIn partnership with VEQ\nINFORMATION VEQ\n418 683-2366 ext.227\ndominique.paddack@veq.ca
URL:https://crfmv.com/en/event/celebrate-together-the-earth-day/
ATTACH;FMTTYPE=image/png:https://crfmv.com/wp-content/uploads/2025/04/jour_terre_2025.heures.png
END:VEVENT
BEGIN:VEVENT
DTSTART;TZID=America/Toronto:20250423T113000
DTEND;TZID=America/Toronto:20250423T124500
DTSTAMP:20260421T082204
CREATED:20241121T202238Z
LAST-MODIFIED:20241125T164054Z
UID:12565-1745407800-1745412300@crfmv.com
SUMMARY:Midi discussion - Sexuality
DESCRIPTION:From 11h30 to 12h45\n\nINFORMATION\nÉquipe jeunesse\n418 844-6060\nservicesjeunesse@crfmv.com
URL:https://crfmv.com/en/event/midi-discussion-sexuality-2/
ATTACH;FMTTYPE=image/png:https://crfmv.com/wp-content/uploads/2024/11/10-23-avril.png
END:VEVENT
BEGIN:VEVENT
DTSTART;TZID=America/Toronto:20250425T190000
DTEND;TZID=America/Toronto:20250425T210000
DTSTAMP:20260421T082204
CREATED:20250417T183440Z
LAST-MODIFIED:20250417T183440Z
UID:13428-1745607600-1745614800@crfmv.com
SUMMARY:Easter disco
DESCRIPTION:Easter Disco – April 25\, 2025\nCome celebrate Easter in a fun and festive way with our Easter Disco!\nDate: April 25\, 2025\nTime: 7:00 PM – 9:00 PM\nFor: kindergarten (5 years old) to grade sixth\nCost: $5\nAttention: Online registration is MANDATORY\nSign up here  https://crfmv.info/disco\n\nCanteen\nChocolate: $1.50\nBeverages: $1\nCandy: $1.50\nPopcorn: $1.25\nCotton Candy: $1.25\nChips: $1\nSlush: $2\n\nNeed more info?\nYouth Team at:\n418 844-6060\nservicesjeunesse@crfmv.com
URL:https://crfmv.com/en/event/easter-disco/
ATTACH;FMTTYPE=image/png:https://crfmv.com/wp-content/uploads/2025/04/disco_paques.png
END:VEVENT
BEGIN:VEVENT
DTSTART;TZID=America/Toronto:20250426T093000
DTEND;TZID=America/Toronto:20250426T113000
DTSTAMP:20260421T082204
CREATED:20250401T192511Z
LAST-MODIFIED:20250401T192511Z
UID:13299-1745659800-1745667000@crfmv.com
SUMMARY:Fathers meet-up
DESCRIPTION:A precious father and child moment ❤️ A morning between fathers\, step-fathers and their children.\nAn opportunity for fathers and step-fathers to gather together and to discuss on their reality. \nFree drinks and snacks\, arcades games\, babyfoot\, pool table\, board games and video games. \nFree at the Community Centre (Building 93)\nMandatory registration: https://crfmv.info/peres_fathers \nInformation:\nTanya.langlois@crfmv.com\n418 844-6060
URL:https://crfmv.com/en/event/fathers-meet-up-2/
ATTACH;FMTTYPE=image/png:https://crfmv.com/wp-content/uploads/2025/04/reunir_entre_pere_2025-1.png
END:VEVENT
END:VCALENDAR