BEGIN:VCALENDAR
VERSION:2.0
PRODID:-//CRFM Valcartier - ECPv6.15.20//NONSGML v1.0//EN
CALSCALE:GREGORIAN
METHOD:PUBLISH
X-ORIGINAL-URL:https://crfmv.com/en/
X-WR-CALDESC:Events for CRFM Valcartier
REFRESH-INTERVAL;VALUE=DURATION:PT1H
X-Robots-Tag:noindex
X-PUBLISHED-TTL:PT1H
BEGIN:VTIMEZONE
TZID:America/Toronto
BEGIN:DAYLIGHT
TZOFFSETFROM:-0500
TZOFFSETTO:-0400
TZNAME:EDT
DTSTART:20240310T070000
END:DAYLIGHT
BEGIN:STANDARD
TZOFFSETFROM:-0400
TZOFFSETTO:-0500
TZNAME:EST
DTSTART:20241103T060000
END:STANDARD
BEGIN:DAYLIGHT
TZOFFSETFROM:-0500
TZOFFSETTO:-0400
TZNAME:EDT
DTSTART:20250309T070000
END:DAYLIGHT
BEGIN:STANDARD
TZOFFSETFROM:-0400
TZOFFSETTO:-0500
TZNAME:EST
DTSTART:20251102T060000
END:STANDARD
BEGIN:DAYLIGHT
TZOFFSETFROM:-0500
TZOFFSETTO:-0400
TZNAME:EDT
DTSTART:20260308T070000
END:DAYLIGHT
BEGIN:STANDARD
TZOFFSETFROM:-0400
TZOFFSETTO:-0500
TZNAME:EST
DTSTART:20261101T060000
END:STANDARD
END:VTIMEZONE
BEGIN:VEVENT
DTSTART;TZID=America/Toronto:20250603T180000
DTEND;TZID=America/Toronto:20250603T191500
DTSTAMP:20260421T055210
CREATED:20250530T195724Z
LAST-MODIFIED:20250530T195724Z
UID:13575-1748973600-1748978100@crfmv.com
SUMMARY:Interactive workshop for youth
DESCRIPTION:Posting ahead? Help your kids (5–12 years old) get ready!\nGive them a boost by signing them up for our fun and reassuring prep workshop!\n\n\nune 3 | 6:00 PM – 7:15 PM\nRegistration is mandatory before May 29 via the following link: https://crfmv.info/mutation_5-12_Posting
URL:https://crfmv.com/en/event/interactive-workshop-for-youth/
ATTACH;FMTTYPE=image/png:https://crfmv.com/wp-content/uploads/2025/05/rencontre_mutation_ENFANT_2025.png
END:VEVENT
BEGIN:VEVENT
DTSTART;TZID=America/Toronto:20250604T113000
DTEND;TZID=America/Toronto:20250604T124500
DTSTAMP:20260421T055210
CREATED:20241121T195249Z
LAST-MODIFIED:20241125T163354Z
UID:12549-1749036600-1749041100@crfmv.com
SUMMARY:Midi discussion - Gender diversity
DESCRIPTION:From 11h30 to 12h45\n\nINFORMATION\nÉquipe jeunesse\n418 844-6060\nservicesjeunesse@crfmv.com
URL:https://crfmv.com/en/event/midi-discussion-gender-diversity/
ATTACH;FMTTYPE=image/png:https://crfmv.com/wp-content/uploads/2024/11/vignette-midi-discussion-24-25_4-juin.png
END:VEVENT
BEGIN:VEVENT
DTSTART;TZID=America/Toronto:20250607T080000
DTEND;TZID=America/Toronto:20250607T090000
DTSTAMP:20260421T055210
CREATED:20250530T201612Z
LAST-MODIFIED:20250530T201612Z
UID:13597-1749283200-1749286800@crfmv.com
SUMMARY:Donation Day
DESCRIPTION:Give Your Items a Second Life!\n\n\nBeing posted\, moving\, spring cleaning\, or decluttering? Donate what you no longer need:\nClothing\n\n\nToys\nVarious items in good condition\n\nCommunity Centre (Building 93)\n\n\nJune 3 to 6: 8:30 a.m. to 4:30 p.m.\nSaturday\, June 7: 8 a.m. to 9 a.m.\nOutdoor bin available in the evening (near the door)\n\n\nOpen to all | Free\n\n\nInfo: Chantal.thompson@crfmv.com\nExtra items will be donated to a local organization.\nThank you for making a difference in our community
URL:https://crfmv.com/en/event/donation-day/
ATTACH;FMTTYPE=image/png:https://crfmv.com/wp-content/uploads/2025/05/veux-tu-ca_Vignette-FB.png
END:VEVENT
BEGIN:VEVENT
DTSTART;TZID=America/Toronto:20250613T190000
DTEND;TZID=America/Toronto:20250613T210000
DTSTAMP:20260421T055210
CREATED:20250530T194929Z
LAST-MODIFIED:20250530T194929Z
UID:13567-1749841200-1749848400@crfmv.com
SUMMARY:End of year Disco
DESCRIPTION:UNDER THE THEME HAWAII – LILO & STITCh! School’s almost out ! Come celebrate with us at the end of year Disco ! For: kindergarten (5 years old) to grade sixth\n\n\n$5\nAttention: Online registration is MANDATORY\nSign up here: https://crfmv.info/disco\n\n\n\n\n\nNeed more info ?\nYouth Team at:\n418 844-6060\nservicesjeunesse@crfmv.com
URL:https://crfmv.com/en/event/end-of-year-disco/
ATTACH;FMTTYPE=image/png:https://crfmv.com/wp-content/uploads/2025/05/disco_fin_annee.2025.png
END:VEVENT
BEGIN:VEVENT
DTSTART;TZID=America/Toronto:20250615T100000
DTEND;TZID=America/Toronto:20250615T150000
DTSTAMP:20260421T055210
CREATED:20250502T181807Z
LAST-MODIFIED:20250502T181807Z
UID:13504-1749981600-1749999600@crfmv.com
SUMMARY:Dad Fest - open to all
DESCRIPTION:This is the event you’ve been waiting for: Dad Fest!\nJune 15\, come celebrate dads the fun way in a warm\, family-friendly atmosphere! A family quality moment to celebrate Quebec’s Paternity Week.\nExplosive wrestling show by NSPW | Bring your homemade wrestler mask!\nInflatables for the kids\nMusic\, entertainment & lots of surprises\nSnacks\, laughter and good vibes guaranteed!\nEveryone’s welcome – let’s gather\, have fun and honor the everyday heroes.\nCome rain or shine.
URL:https://crfmv.com/en/event/dad-fest-open-to-all/
ATTACH;FMTTYPE=image/png:https://crfmv.com/wp-content/uploads/2025/05/dad_fest.png
END:VEVENT
BEGIN:VEVENT
DTSTART;TZID=America/Toronto:20250621T093000
DTEND;TZID=America/Toronto:20250621T143000
DTSTAMP:20260421T055210
CREATED:20250530T200937Z
LAST-MODIFIED:20250530T200937Z
UID:13588-1750498200-1750516200@crfmv.com
SUMMARY:Prenatal courses
DESCRIPTION:Baby on the way? Get ready with our free prenatal courses!\n\n\nAt the Community Centre (Building 93).\n\n\nMandatory registration before June 13\nhttps://crfmv.info/prenataux_prenatal\n\n\nInformation\n418 844-6060\nTanya.langlois@crfmv.com
URL:https://crfmv.com/en/event/prenatal-courses-4/
ATTACH;FMTTYPE=image/png:https://crfmv.com/wp-content/uploads/2025/05/cours_prenataux_printemps.png
END:VEVENT
BEGIN:VEVENT
DTSTART;TZID=America/Toronto:20250622T093000
DTEND;TZID=America/Toronto:20250622T143000
DTSTAMP:20260421T055210
CREATED:20250530T200733Z
LAST-MODIFIED:20250530T200733Z
UID:13586-1750584600-1750602600@crfmv.com
SUMMARY:Prenatal courses
DESCRIPTION:Baby on the way? Get ready with our free prenatal courses!\n\n\nAt the Community Centre (Building 93).\n\n\nMandatory registration before June 13\nhttps://crfmv.info/prenataux_prenatal\n\n\nInformation\n418 844-6060\nTanya.langlois@crfmv.com
URL:https://crfmv.com/en/event/prenatal-courses-3/
ATTACH;FMTTYPE=image/png:https://crfmv.com/wp-content/uploads/2025/05/cours_prenataux_printemps.png
END:VEVENT
BEGIN:VEVENT
DTSTART;TZID=America/Toronto:20250626T081500
DTEND;TZID=America/Toronto:20250626T220000
DTSTAMP:20260421T055210
CREATED:20250530T202021Z
LAST-MODIFIED:20250530T202021Z
UID:13605-1750925700-1750975200@crfmv.com
SUMMARY:Day at la Ronde
DESCRIPTION:New to Valcartier? Do you have a loved one deployed? La Ronde is a great event for forging new ties and taking your mind off things! Registration is now open \nCome bond\, share laughs and create unforgettable memories at La Ronde with your youth club gang!\n\n\nActivity for youths aged 10 to 17\, LIMITED places.\nRegistration at $60\, form to be completed by the parent: https://crfmv.info/ete_summer – Purchases are non-refundable – VMFRC teen volunteers (since April 2024) benefit from a reduced rate with a promo code. Ask a youth worker for your code.\n\n\nDate: June 26\, 2025 *Hours: Departure 8:15 a.m. / return around 10:00 p.m.\nSchool bus transportation. Details of materials required on the registration form.\n\n\nInformation: Youth team\, 418-844-6060\n*The times indicated correspond to the arrival of young people at the VMFRC before the activity and their return to the VMFRC after the activity. End time is approximate. Times may change (in which case\, you will be informed). PLEASE NOTE: In case of emergency\, call 418-844-6060 or 418-570-0216.
URL:https://crfmv.com/en/event/day-at-la-ronde/
ATTACH;FMTTYPE=image/png:https://crfmv.com/wp-content/uploads/2025/05/activites_ete_ronde_2025.png
END:VEVENT
END:VCALENDAR