BEGIN:VCALENDAR
VERSION:2.0
PRODID:-//CRFM Valcartier - ECPv6.15.20//NONSGML v1.0//EN
CALSCALE:GREGORIAN
METHOD:PUBLISH
X-WR-CALNAME:CRFM Valcartier
X-ORIGINAL-URL:https://crfmv.com/en/
X-WR-CALDESC:Events for CRFM Valcartier
REFRESH-INTERVAL;VALUE=DURATION:PT1H
X-Robots-Tag:noindex
X-PUBLISHED-TTL:PT1H
BEGIN:VTIMEZONE
TZID:America/Toronto
BEGIN:DAYLIGHT
TZOFFSETFROM:-0500
TZOFFSETTO:-0400
TZNAME:EDT
DTSTART:20240310T070000
END:DAYLIGHT
BEGIN:STANDARD
TZOFFSETFROM:-0400
TZOFFSETTO:-0500
TZNAME:EST
DTSTART:20241103T060000
END:STANDARD
BEGIN:DAYLIGHT
TZOFFSETFROM:-0500
TZOFFSETTO:-0400
TZNAME:EDT
DTSTART:20250309T070000
END:DAYLIGHT
BEGIN:STANDARD
TZOFFSETFROM:-0400
TZOFFSETTO:-0500
TZNAME:EST
DTSTART:20251102T060000
END:STANDARD
BEGIN:DAYLIGHT
TZOFFSETFROM:-0500
TZOFFSETTO:-0400
TZNAME:EDT
DTSTART:20260308T070000
END:DAYLIGHT
BEGIN:STANDARD
TZOFFSETFROM:-0400
TZOFFSETTO:-0500
TZNAME:EST
DTSTART:20261101T060000
END:STANDARD
END:VTIMEZONE
BEGIN:VEVENT
DTSTART;TZID=America/Toronto:20250703T130000
DTEND;TZID=America/Toronto:20250703T163000
DTSTAMP:20260421T043524
CREATED:20250611T130247Z
LAST-MODIFIED:20250611T130247Z
UID:13696-1751547600-1751560200@crfmv.com
SUMMARY:Slip n Slide
DESCRIPTION:Activity for 10-17 year-olds. Registration: https://crfmv.info/ete_summer
URL:https://crfmv.com/en/event/slip-n-slide/
ATTACH;FMTTYPE=image/png:https://crfmv.com/wp-content/uploads/2025/06/activites_ete_slide_2025.png
END:VEVENT
BEGIN:VEVENT
DTSTART;TZID=America/Toronto:20250704T103000
DTEND;TZID=America/Toronto:20250704T130000
DTSTAMP:20260421T043524
CREATED:20250611T125436Z
LAST-MODIFIED:20250611T125436Z
UID:13687-1751625000-1751634000@crfmv.com
SUMMARY:VMFRC's PICNIC
DESCRIPTION:New in town — alone\, as a couple\, as a family\, or newly posted ?\nCome meet your community\n\n\nBring your picnic\, tablecloth and chairs\nFun activities and water games for kids\nRefreshing surprise for everyone !\n\n\nCommunity Centre (Building 93)\nFrom 10 a.m. to 1 p.m.\nA FREE and bilingual activity — open to all !\n\n\nInfo\n418 844-6060\nChantal.thompson@crfmv.com\n\n\nNo registration required. In case of rain\, the activity will take place indoors
URL:https://crfmv.com/en/event/vmfrcs-picnic/
ATTACH;FMTTYPE=image/png:https://crfmv.com/wp-content/uploads/2025/06/pique_niques_2025.png
END:VEVENT
BEGIN:VEVENT
DTSTART;TZID=America/Toronto:20250710T100000
DTEND;TZID=America/Toronto:20250710T160000
DTSTAMP:20260421T043524
CREATED:20250611T130343Z
LAST-MODIFIED:20250611T130343Z
UID:13698-1752141600-1752163200@crfmv.com
SUMMARY:Canoe Légaré
DESCRIPTION:Activity for 10-17 year-olds. Registration: https://crfmv.info/ete_summer
URL:https://crfmv.com/en/event/canoe-legare/
ATTACH;FMTTYPE=image/png:https://crfmv.com/wp-content/uploads/2025/06/activites_ete_canot_2025.png
END:VEVENT
BEGIN:VEVENT
DTSTART;TZID=America/Toronto:20250711T103000
DTEND;TZID=America/Toronto:20250711T130000
DTSTAMP:20260421T043524
CREATED:20250611T125548Z
LAST-MODIFIED:20250611T125548Z
UID:13689-1752229800-1752238800@crfmv.com
SUMMARY:VMFRC'S PICNIC
DESCRIPTION:New in town — alone\, as a couple\, as a family\, or newly posted ?\nCome meet your community\n\n\nBring your picnic\, tablecloth and chairs\nFun activities and water games for kids\nRefreshing surprise for everyone !\n\n\nCommunity Centre (Building 93)\nFrom 10 a.m. to 1 p.m.\nA FREE and bilingual activity — open to all !\n\n\nInfo\n418 844-6060\nChantal.thompson@crfmv.com\n\n\nNo registration required. In case of rain\, the activity will take place indoors
URL:https://crfmv.com/en/event/vmfrcs-picnic-2/
ATTACH;FMTTYPE=image/png:https://crfmv.com/wp-content/uploads/2025/06/pique_niques_2025.png
END:VEVENT
BEGIN:VEVENT
DTSTART;TZID=America/Toronto:20250717T093000
DTEND;TZID=America/Toronto:20250717T164500
DTSTAMP:20260421T043524
CREATED:20250611T130515Z
LAST-MODIFIED:20250611T130515Z
UID:13700-1752744600-1752770700@crfmv.com
SUMMARY:Valcartier vacation village
DESCRIPTION:Activity for 10-17 year-olds. Registration: https://crfmv.info/ete_summer
URL:https://crfmv.com/en/event/valcartier-vacation-village/
ATTACH;FMTTYPE=image/png:https://crfmv.com/wp-content/uploads/2025/06/activites_ete_vvv_2025.png
END:VEVENT
BEGIN:VEVENT
DTSTART;TZID=America/Toronto:20250718T103000
DTEND;TZID=America/Toronto:20250718T130000
DTSTAMP:20260421T043524
CREATED:20250611T125701Z
LAST-MODIFIED:20250611T125701Z
UID:13692-1752834600-1752843600@crfmv.com
SUMMARY:VMFRC'S PICNIC
DESCRIPTION:New in town — alone\, as a couple\, as a family\, or newly posted ?\nCome meet your community\n\n\nBring your picnic\, tablecloth and chairs\nFun activities and water games for kids\nRefreshing surprise for everyone !\n\n\nCommunity Centre (Building 93)\nFrom 10 a.m. to 1 p.m.\nA FREE and bilingual activity — open to all !\n\n\nInfo\n418 844-6060\nChantal.thompson@crfmv.com\n\n\nNo registration required. In case of rain\, the activity will take place indoors
URL:https://crfmv.com/en/event/vmfrcs-picnic-3/
ATTACH;FMTTYPE=image/png:https://crfmv.com/wp-content/uploads/2025/06/pique_niques_2025.png
END:VEVENT
BEGIN:VEVENT
DTSTART;TZID=America/Toronto:20250724T101500
DTEND;TZID=America/Toronto:20250724T160000
DTSTAMP:20260421T043524
CREATED:20250611T130629Z
LAST-MODIFIED:20250611T130803Z
UID:13702-1753352100-1753372800@crfmv.com
SUMMARY:Beach Day
DESCRIPTION:Activity for 12-17 year-olds. Registration: https://crfmv.info/ete_summer
URL:https://crfmv.com/en/event/beach-day/
ATTACH;FMTTYPE=image/png:https://crfmv.com/wp-content/uploads/2025/06/activites_ete_plage_2025.png
END:VEVENT
BEGIN:VEVENT
DTSTART;TZID=America/Toronto:20250724T190000
DTEND;TZID=America/Toronto:20250725T080000
DTSTAMP:20260421T043524
CREATED:20250611T130919Z
LAST-MODIFIED:20250611T130919Z
UID:13704-1753383600-1753430400@crfmv.com
SUMMARY:Camping at the Repaire
DESCRIPTION:Activity for 12-17 year-olds. Registration: https://crfmv.info/ete_summer
URL:https://crfmv.com/en/event/camping-at-the-repaire/
ATTACH;FMTTYPE=image/png:https://crfmv.com/wp-content/uploads/2025/06/activites_ete_camping_2025.png
END:VEVENT
BEGIN:VEVENT
DTSTART;TZID=America/Toronto:20250725T103000
DTEND;TZID=America/Toronto:20250725T130000
DTSTAMP:20260421T043524
CREATED:20250611T125749Z
LAST-MODIFIED:20250611T125749Z
UID:13694-1753439400-1753448400@crfmv.com
SUMMARY:VMFRC'S PICNIC
DESCRIPTION:New in town — alone\, as a couple\, as a family\, or newly posted ?\nCome meet your community\n\n\nBring your picnic\, tablecloth and chairs\nFun activities and water games for kids\nRefreshing surprise for everyone !\n\n\nCommunity Centre (Building 93)\nFrom 10 a.m. to 1 p.m.\nA FREE and bilingual activity — open to all !\n\n\nInfo\n418 844-6060\nChantal.thompson@crfmv.com\n\n\nNo registration required. In case of rain\, the activity will take place indoors
URL:https://crfmv.com/en/event/vmfrcs-picnic-4/
ATTACH;FMTTYPE=image/png:https://crfmv.com/wp-content/uploads/2025/06/pique_niques_2025.png
END:VEVENT
BEGIN:VEVENT
DTSTART;TZID=America/Toronto:20250731T130000
DTEND;TZID=America/Toronto:20250731T170000
DTSTAMP:20260421T043524
CREATED:20250611T131030Z
LAST-MODIFIED:20250611T131030Z
UID:13706-1753966800-1753981200@crfmv.com
SUMMARY:Tree to tree "ARBRASKA"
DESCRIPTION:Activity for 10-17 year-olds. Registration: https://crfmv.info/ete_summer
URL:https://crfmv.com/en/event/tree-to-tree-arbraska/
ATTACH;FMTTYPE=image/png:https://crfmv.com/wp-content/uploads/2025/06/activites_ete_arbraska_2025.png
END:VEVENT
END:VCALENDAR