BEGIN:VCALENDAR
VERSION:2.0
PRODID:-//CRFM Valcartier - ECPv6.15.20//NONSGML v1.0//EN
CALSCALE:GREGORIAN
METHOD:PUBLISH
X-ORIGINAL-URL:https://crfmv.com/fr/
X-WR-CALDESC:Évènements pour CRFM Valcartier
REFRESH-INTERVAL;VALUE=DURATION:PT1H
X-Robots-Tag:noindex
X-PUBLISHED-TTL:PT1H
BEGIN:VTIMEZONE
TZID:America/Toronto
BEGIN:DAYLIGHT
TZOFFSETFROM:-0500
TZOFFSETTO:-0400
TZNAME:EDT
DTSTART:20250309T070000
END:DAYLIGHT
BEGIN:STANDARD
TZOFFSETFROM:-0400
TZOFFSETTO:-0500
TZNAME:EST
DTSTART:20251102T060000
END:STANDARD
BEGIN:DAYLIGHT
TZOFFSETFROM:-0500
TZOFFSETTO:-0400
TZNAME:EDT
DTSTART:20260308T070000
END:DAYLIGHT
BEGIN:STANDARD
TZOFFSETFROM:-0400
TZOFFSETTO:-0500
TZNAME:EST
DTSTART:20261101T060000
END:STANDARD
BEGIN:DAYLIGHT
TZOFFSETFROM:-0500
TZOFFSETTO:-0400
TZNAME:EDT
DTSTART:20270314T070000
END:DAYLIGHT
BEGIN:STANDARD
TZOFFSETFROM:-0400
TZOFFSETTO:-0500
TZNAME:EST
DTSTART:20271107T060000
END:STANDARD
END:VTIMEZONE
BEGIN:VEVENT
DTSTART;TZID=America/Toronto:20260310T180000
DTEND;TZID=America/Toronto:20260310T210000
DTSTAMP:20260420T132417
CREATED:20260303T200357Z
LAST-MODIFIED:20260303T200357Z
UID:14777-1773165600-1773176400@crfmv.com
SUMMARY:Maîtriser les outils pour décrocher l'emploi idéal
DESCRIPTION:TU CHERCHES UN EMPLOI ET TU VEUX DES RÉSULTATS CONCRETS \nCet atelier pratique et interactif te permettra de maîtriser les meilleurs outils de recherche d’emploi\, d’apprendre à repérer rapidement les bonnes offres et de créer un CV et une lettre de motivation qui se démarquent. \nExercices dynamiques et astuces efficaces :\n– Chasse à l’offre\n– Candidature express\n– Pitch par courriel \nInscription : https://crfmv.info/cv_resume \nInformation\n418 844-6060\nOlga.Artemova@crfmv.com
URL:https://crfmv.com/fr/event/maitriser-les-outils-pour-decrocher-lemploi-ideal/
ATTACH;FMTTYPE=image/png:https://crfmv.com/wp-content/uploads/2026/03/Capture-decran-le-2026-03-03-a-14.59.53.png
END:VEVENT
BEGIN:VEVENT
DTSTART;TZID=America/Toronto:20260311T170000
DTEND;TZID=America/Toronto:20260311T200000
DTSTAMP:20260420T132417
CREATED:20260303T181040Z
LAST-MODIFIED:20260303T181040Z
UID:14721-1773248400-1773259200@crfmv.com
SUMMARY:Soirée de la communauté
DESCRIPTION:👋 Un membre de l’équipe du CRFMV sera sur place pour vous accueillir et répondre à vos questions!\n☕ Au programme :\n✨ Café gratuit\n🤝 Faites de nouvelles rencontres\n🧸 Laissez les enfants jouer (sous votre supervision) dans la zone de jeux\n📚 Étudiez ou prenez un livre dans notre croque-livres\n🎨 Créez des projets créatifs et partagez vos connaissances\n🙋‍♀️ Faites du bénévolat\n📦 Préparez vos colis\nℹ️ Information\n📞 418 844-6060\n📧 Chantal.thompson@crfmv.com
URL:https://crfmv.com/fr/event/soiree-de-la-communaute/
ATTACH;FMTTYPE=image/png:https://crfmv.com/wp-content/uploads/2026/03/Plan-de-travail-2@4x.png
END:VEVENT
BEGIN:VEVENT
DTSTART;TZID=America/Toronto:20260313T153000
DTEND;TZID=America/Toronto:20260313T190000
DTSTAMP:20260420T132417
CREATED:20260303T184653Z
LAST-MODIFIED:20260303T184653Z
UID:14744-1773415800-1773428400@crfmv.com
SUMMARY:La Patrouille canine d’Ambulance Saint-Jean
DESCRIPTION:Avec la Patrouille canine d’Ambulance Saint-Jean.\nEn cette journée de la Santé mentale positive\, c’est l’occasion parfaite pour prendre un moment pour toi et ta famille. Viens rencontrer ta communauté et découvrir les services offerts par le CRFMV.\nOuvert à tous : communauté militaire\, vétérane et civile. Les enfants de moins de 12 ans doivent être accompagnés d’un parent.\nAu Centre communautaire (Édifice 93)\nEntrée libre et sans inscription (sans le souper)\nINSCRIPTION pour le souper hot-dog avant le 12 mars.\n10$ / famille\nhttps://crfmv.info/chiens_dogs\nInformation\nChantal.thompson@crfmv.com
URL:https://crfmv.com/fr/event/la-patrouille-canine-dambulance-saint-jean/
ATTACH;FMTTYPE=image/png:https://crfmv.com/wp-content/uploads/2026/03/sante_mentale_2026.png
END:VEVENT
BEGIN:VEVENT
DTSTART;TZID=America/Toronto:20260319T180000
DTEND;TZID=America/Toronto:20260319T210000
DTSTAMP:20260420T132417
CREATED:20260303T195103Z
LAST-MODIFIED:20260303T195103Z
UID:14767-1773943200-1773954000@crfmv.com
SUMMARY:Atelier : Fatigue de compassion
DESCRIPTION:Vous vous questionnez à propos de la fatigue de compassion? Vous souhaitez en apprendre plus sur le sujet? Cet atelier vise à améliorer vos connaissances sur la fatigue de compassion et les moyens pour la prévenir\, exprimer vos préoccupations sur le sujet ainsi que fournir des ressources en cas de besoin.  \nC’est gratuit. Au Centre communautaire (Édifice 93)  \nINSCRIPTION\nhttps://crfmv.info/fatigue  \nINFORMATION\nmarie-eve.genest@crfmv.com\n1 877-844-6060
URL:https://crfmv.com/fr/event/atelier-fatigue-de-compassion-3/
ATTACH;FMTTYPE=image/png:https://crfmv.com/wp-content/uploads/2026/03/fatigue_compassion_mars2026.png
END:VEVENT
END:VCALENDAR