BEGIN:VCALENDAR
VERSION:2.0
PRODID:-//CRFM Valcartier - ECPv6.15.20//NONSGML v1.0//EN
CALSCALE:GREGORIAN
METHOD:PUBLISH
X-ORIGINAL-URL:https://crfmv.com/fr/
X-WR-CALDESC:Évènements pour CRFM Valcartier
REFRESH-INTERVAL;VALUE=DURATION:PT1H
X-Robots-Tag:noindex
X-PUBLISHED-TTL:PT1H
BEGIN:VTIMEZONE
TZID:America/Toronto
BEGIN:DAYLIGHT
TZOFFSETFROM:-0500
TZOFFSETTO:-0400
TZNAME:EDT
DTSTART:20230312T070000
END:DAYLIGHT
BEGIN:STANDARD
TZOFFSETFROM:-0400
TZOFFSETTO:-0500
TZNAME:EST
DTSTART:20231105T060000
END:STANDARD
BEGIN:DAYLIGHT
TZOFFSETFROM:-0500
TZOFFSETTO:-0400
TZNAME:EDT
DTSTART:20240310T070000
END:DAYLIGHT
BEGIN:STANDARD
TZOFFSETFROM:-0400
TZOFFSETTO:-0500
TZNAME:EST
DTSTART:20241103T060000
END:STANDARD
BEGIN:DAYLIGHT
TZOFFSETFROM:-0500
TZOFFSETTO:-0400
TZNAME:EDT
DTSTART:20250309T070000
END:DAYLIGHT
BEGIN:STANDARD
TZOFFSETFROM:-0400
TZOFFSETTO:-0500
TZNAME:EST
DTSTART:20251102T060000
END:STANDARD
END:VTIMEZONE
BEGIN:VEVENT
DTSTART;TZID=America/Toronto:20240301T163000
DTEND;TZID=America/Toronto:20240301T203000
DTSTAMP:20260424T004032
CREATED:20240219T181057Z
LAST-MODIFIED:20240219T202436Z
UID:11341-1709310600-1709325000@crfmv.com
SUMMARY:Journée des Femmes - Women's Day
DESCRIPTION:Salut les filles! L’hiver est long… Je sais pas vous autre\, mais moi j’ai besoin d’une pause 😉 \nLe 1er mars\, le CRFM Valcartier propose la soirée paaaaarfaite! Dès 16 heures on va être accueillie avec des petites bouchées et des breuvages. On va assister à des conférences\, des ateliers de yoga et de méditation. Sérieux\, je sais même pas comment on fait pour méditer!?! Faut vraiment pas manquer ça. Il va y avoir des kiosques de prévention et de bien-être\, massage\, ongles\, cheveux… j’ai trop hâte 😊 \nService de garde sur demande\, places limitées. \nHabillez-vous confo 😚 Venez-vous? \nHoraire\nInscription\nInformation \n\n\n\n\n\nHey girls! Winter seems long… I don’t know about you\, but I need a break 😉 \nOn March 1st\, the Valcartier MFRC is offering the peeeeeerfect evening! Starting at 4 pm\, you’ll be welcomed with fingerfood and beverages. On site: conferences\, yoga\, meditation workshops\, and more. Seriously\, I don’t even know how to meditate!?! You really don’t want to miss it. There will be prevention and wellness booths\, massage\, nails\, hair… I can’t wait 😊 \nDress comfy 😚 Are you coming? Here’s the schedule: \nSchedule\nRegistration\nInformation
URL:https://crfmv.com/fr/event/journee-des-femmes-womens-day/
LOCATION:Centre de ressources pour les familles militaires Valcartier\, Édifice 93 C.P. 1000\, Succursale Forces\, Courcelette\, Québec\, G0A 4Z0\, Canada
ATTACH;FMTTYPE=image/png:https://crfmv.com/wp-content/uploads/2024/02/journee_femme_vignette_web.png
END:VEVENT
END:VCALENDAR